BEGIN:VCALENDAR
VERSION:2.0
PRODID:-//Shepherd of the Valley - ECPv6.15.20//NONSGML v1.0//EN
CALSCALE:GREGORIAN
METHOD:PUBLISH
X-ORIGINAL-URL:https://www.shepherdofthevalley.com
X-WR-CALDESC:Events for Shepherd of the Valley
REFRESH-INTERVAL;VALUE=DURATION:PT1H
X-Robots-Tag:noindex
X-PUBLISHED-TTL:PT1H
BEGIN:VTIMEZONE
TZID:America/New_York
BEGIN:DAYLIGHT
TZOFFSETFROM:-0500
TZOFFSETTO:-0400
TZNAME:EDT
DTSTART:20230312T070000
END:DAYLIGHT
BEGIN:STANDARD
TZOFFSETFROM:-0400
TZOFFSETTO:-0500
TZNAME:EST
DTSTART:20231105T060000
END:STANDARD
BEGIN:DAYLIGHT
TZOFFSETFROM:-0500
TZOFFSETTO:-0400
TZNAME:EDT
DTSTART:20240310T070000
END:DAYLIGHT
BEGIN:STANDARD
TZOFFSETFROM:-0400
TZOFFSETTO:-0500
TZNAME:EST
DTSTART:20241103T060000
END:STANDARD
BEGIN:DAYLIGHT
TZOFFSETFROM:-0500
TZOFFSETTO:-0400
TZNAME:EDT
DTSTART:20250309T070000
END:DAYLIGHT
BEGIN:STANDARD
TZOFFSETFROM:-0400
TZOFFSETTO:-0500
TZNAME:EST
DTSTART:20251102T060000
END:STANDARD
END:VTIMEZONE
BEGIN:VEVENT
DTSTART;TZID=America/New_York:20241010T170000
DTEND;TZID=America/New_York:20241010T190000
DTSTAMP:20260425T222709
CREATED:20240722T174004Z
LAST-MODIFIED:20240722T184413Z
UID:10000165-1728579600-1728586800@www.shepherdofthevalley.com
SUMMARY:Shepherd's Foundation 30th Anniversary Celebration
DESCRIPTION:Join us for light refreshments\, hors d’oeuvres\, and an evening of celebration on behalf of Shepherd’s Foundation! All proceeds from this event will go towards supporting the programs and services offered at each Shepherd of the Valley community. Shepherd’s Foundation ensures that residents receive the care and service they deserve. \nTicket Price: $75 Per Attendee \n\nPlease make checks payable to “Shepherd’s Foundation” and mail to our corporate office at: \n\nShepherd’s Foundation \n5525 Silica Road \nAustintown\, OH 44515 \nOR pay online HERE.
URL:https://www.shepherdofthevalley.com/event/shepherds-foundation-30th-anniversary-celebration/
LOCATION:The Lake Club\, 1140 Paulin Road\, Poland\, OH\, 44514\, United States
ATTACH;FMTTYPE=image/png:https://www.shepherdofthevalley.com/wp-content/uploads/2024/07/FDN-30th-Events-Page-Cover-Images.png
END:VEVENT
END:VCALENDAR