BEGIN:VCALENDAR
VERSION:2.0
PRODID:-//Shepherd of the Valley - ECPv6.15.20//NONSGML v1.0//EN
CALSCALE:GREGORIAN
METHOD:PUBLISH
X-ORIGINAL-URL:https://www.shepherdofthevalley.com
X-WR-CALDESC:Events for Shepherd of the Valley
REFRESH-INTERVAL;VALUE=DURATION:PT1H
X-Robots-Tag:noindex
X-PUBLISHED-TTL:PT1H
BEGIN:VTIMEZONE
TZID:America/New_York
BEGIN:DAYLIGHT
TZOFFSETFROM:-0500
TZOFFSETTO:-0400
TZNAME:EDT
DTSTART:20240310T070000
END:DAYLIGHT
BEGIN:STANDARD
TZOFFSETFROM:-0400
TZOFFSETTO:-0500
TZNAME:EST
DTSTART:20241103T060000
END:STANDARD
BEGIN:DAYLIGHT
TZOFFSETFROM:-0500
TZOFFSETTO:-0400
TZNAME:EDT
DTSTART:20250309T070000
END:DAYLIGHT
BEGIN:STANDARD
TZOFFSETFROM:-0400
TZOFFSETTO:-0500
TZNAME:EST
DTSTART:20251102T060000
END:STANDARD
BEGIN:DAYLIGHT
TZOFFSETFROM:-0500
TZOFFSETTO:-0400
TZNAME:EDT
DTSTART:20260308T070000
END:DAYLIGHT
BEGIN:STANDARD
TZOFFSETFROM:-0400
TZOFFSETTO:-0500
TZNAME:EST
DTSTART:20261101T060000
END:STANDARD
END:VTIMEZONE
BEGIN:VEVENT
DTSTART;TZID=America/New_York:20250430T100000
DTEND;TZID=America/New_York:20250430T130000
DTSTAMP:20260425T111117
CREATED:20250127T203848Z
LAST-MODIFIED:20250401T143450Z
UID:10000194-1746007200-1746018000@www.shepherdofthevalley.com
SUMMARY:Liberty Senior Resource Fair
DESCRIPTION:Join Shepherd of the Valley Liberty for a FREE Senior Resource Fair on Wednesday\, April 30th! Talk with local experts and visit with various businesses in the community to see what resources are available to you! \nDate: Wednesday\, April 30th\nTime: 10:00 A.M. – 1:00 P.M.\nLocation: Shepherd of the Valley Liberty – 1501 Tibbetts-Wick Road\, Girard\, OH 44420
URL:https://www.shepherdofthevalley.com/event/liberty-senior-resource-fair-2/
LOCATION:Shepherd of the Valley-Liberty\, 1501 Tibbetts-Wick Road\, Girard\, OH\, 44420\, United States
ATTACH;FMTTYPE=image/png:https://www.shepherdofthevalley.com/wp-content/uploads/2025/04/Liberty-Resource-Fair-New-Cover-Image.png
END:VEVENT
END:VCALENDAR