BEGIN:VCALENDAR
VERSION:2.0
PRODID:-//Shepherd of the Valley - ECPv6.15.20//NONSGML v1.0//EN
CALSCALE:GREGORIAN
METHOD:PUBLISH
X-ORIGINAL-URL:https://www.shepherdofthevalley.com
X-WR-CALDESC:Events for Shepherd of the Valley
REFRESH-INTERVAL;VALUE=DURATION:PT1H
X-Robots-Tag:noindex
X-PUBLISHED-TTL:PT1H
BEGIN:VTIMEZONE
TZID:America/New_York
BEGIN:DAYLIGHT
TZOFFSETFROM:-0500
TZOFFSETTO:-0400
TZNAME:EDT
DTSTART:20240310T070000
END:DAYLIGHT
BEGIN:STANDARD
TZOFFSETFROM:-0400
TZOFFSETTO:-0500
TZNAME:EST
DTSTART:20241103T060000
END:STANDARD
BEGIN:DAYLIGHT
TZOFFSETFROM:-0500
TZOFFSETTO:-0400
TZNAME:EDT
DTSTART:20250309T070000
END:DAYLIGHT
BEGIN:STANDARD
TZOFFSETFROM:-0400
TZOFFSETTO:-0500
TZNAME:EST
DTSTART:20251102T060000
END:STANDARD
BEGIN:DAYLIGHT
TZOFFSETFROM:-0500
TZOFFSETTO:-0400
TZNAME:EDT
DTSTART:20260308T070000
END:DAYLIGHT
BEGIN:STANDARD
TZOFFSETFROM:-0400
TZOFFSETTO:-0500
TZNAME:EST
DTSTART:20261101T060000
END:STANDARD
END:VTIMEZONE
BEGIN:VEVENT
DTSTART;TZID=America/New_York:20250520T100000
DTEND;TZID=America/New_York:20250520T140000
DTSTAMP:20260425T110438
CREATED:20250417T194326Z
LAST-MODIFIED:20250417T194326Z
UID:10000199-1747735200-1747749600@www.shepherdofthevalley.com
SUMMARY:SOV Howland Puzzle Competition
DESCRIPTION:Calling all puzzlers! Do you think you and your friends are the fastest puzzlers in the area? Join us at Shepherd of the Valley Howland to test your skills! \nWe will be holding a puzzling competition in the Main Dining Room of Shepherd of the Valley Howland. Puzzlers will have 2 hours to complete (or be the closest to finishing) a 250 piece puzzle with their team. Teams can include a max of 4 people. We will have refreshments available before the puzzling begins and prizes for the winners! \n\n\nDate: Tuesday\, May 20\nRefreshments: 10:30 A.M. | Puzzling: 11:00 A.M.\nLocation: Shepherd of the Valley Howland Main Dining Room\n4100 North River Road NE\, Warren\, OH 44484 \n\n\n\nTo RSVP for your group\, please call Rachel Ellis by Friday\, May 16 at 330-856-9232 ext. 2618.
URL:https://www.shepherdofthevalley.com/event/sov-howland-puzzle-competition/
LOCATION:Shepherd of the Valley-Howland\, 4100 North River Rd.\, Warren\, OH\, 44484\, United States
ATTACH;FMTTYPE=image/png:https://www.shepherdofthevalley.com/wp-content/uploads/2025/04/Puzzle-Cover-Image.png
END:VEVENT
END:VCALENDAR