BEGIN:VCALENDAR
VERSION:2.0
PRODID:-//Shepherd of the Valley - ECPv6.15.20//NONSGML v1.0//EN
CALSCALE:GREGORIAN
METHOD:PUBLISH
X-ORIGINAL-URL:https://www.shepherdofthevalley.com
X-WR-CALDESC:Events for Shepherd of the Valley
REFRESH-INTERVAL;VALUE=DURATION:PT1H
X-Robots-Tag:noindex
X-PUBLISHED-TTL:PT1H
BEGIN:VTIMEZONE
TZID:America/New_York
BEGIN:DAYLIGHT
TZOFFSETFROM:-0500
TZOFFSETTO:-0400
TZNAME:EDT
DTSTART:20240310T070000
END:DAYLIGHT
BEGIN:STANDARD
TZOFFSETFROM:-0400
TZOFFSETTO:-0500
TZNAME:EST
DTSTART:20241103T060000
END:STANDARD
BEGIN:DAYLIGHT
TZOFFSETFROM:-0500
TZOFFSETTO:-0400
TZNAME:EDT
DTSTART:20250309T070000
END:DAYLIGHT
BEGIN:STANDARD
TZOFFSETFROM:-0400
TZOFFSETTO:-0500
TZNAME:EST
DTSTART:20251102T060000
END:STANDARD
BEGIN:DAYLIGHT
TZOFFSETFROM:-0500
TZOFFSETTO:-0400
TZNAME:EDT
DTSTART:20260308T070000
END:DAYLIGHT
BEGIN:STANDARD
TZOFFSETFROM:-0400
TZOFFSETTO:-0500
TZNAME:EST
DTSTART:20261101T060000
END:STANDARD
END:VTIMEZONE
BEGIN:VEVENT
DTSTART;VALUE=DATE:20250529
DTEND;VALUE=DATE:20250530
DTSTAMP:20260425T092526
CREATED:20250331T153204Z
LAST-MODIFIED:20250528T173802Z
UID:10000196-1748476800-1748563199@www.shepherdofthevalley.com
SUMMARY:2025 Shepherd of the Valley Golf Outing
DESCRIPTION:It’s that time of year again! On Thursday\, May 29\, we will hold the 2025 Shepherd of the Valley and Shepherd’s Foundation Golf Outing! We’ll be back at Knoll Run Golf Course for a fantastic day of golf\, good times\, and support for Shepherd of the Valley\, Shepherd’s Foundation\, and the greater Mahoning Valley! Dinner-only tickets are still available. \n8:00 a.m. – Registration\n8:30 A.M. – Breakfast\n9:00 a.m. – Shotgun start \nFor questions\, please contact Jack Sebest\, Director of Donor Engagement\, at jsebest@shepherdofthevalley.com or 330-530-4038 ext. 2028. \n \n*Golf foursomes are sold out. If your team has already registered\, you can still pay using the link above.
URL:https://www.shepherdofthevalley.com/event/2025-golf-outing/
LOCATION:Knoll Run Golf Course\, 1421 Struthers Coitsville Road\, Lowellville\, OH\, 44436\, United States
ATTACH;FMTTYPE=image/png:https://www.shepherdofthevalley.com/wp-content/uploads/2025/04/Golf-Otuing-New-Cover-Image.png
END:VEVENT
END:VCALENDAR