BEGIN:VCALENDAR
VERSION:2.0
PRODID:-//Shepherd of the Valley - ECPv6.15.20//NONSGML v1.0//EN
CALSCALE:GREGORIAN
METHOD:PUBLISH
X-WR-CALNAME:Shepherd of the Valley
X-ORIGINAL-URL:https://www.shepherdofthevalley.com
X-WR-CALDESC:Events for Shepherd of the Valley
REFRESH-INTERVAL;VALUE=DURATION:PT1H
X-Robots-Tag:noindex
X-PUBLISHED-TTL:PT1H
BEGIN:VTIMEZONE
TZID:America/New_York
BEGIN:DAYLIGHT
TZOFFSETFROM:-0500
TZOFFSETTO:-0400
TZNAME:EDT
DTSTART:20240310T070000
END:DAYLIGHT
BEGIN:STANDARD
TZOFFSETFROM:-0400
TZOFFSETTO:-0500
TZNAME:EST
DTSTART:20241103T060000
END:STANDARD
BEGIN:DAYLIGHT
TZOFFSETFROM:-0500
TZOFFSETTO:-0400
TZNAME:EDT
DTSTART:20250309T070000
END:DAYLIGHT
BEGIN:STANDARD
TZOFFSETFROM:-0400
TZOFFSETTO:-0500
TZNAME:EST
DTSTART:20251102T060000
END:STANDARD
BEGIN:DAYLIGHT
TZOFFSETFROM:-0500
TZOFFSETTO:-0400
TZNAME:EDT
DTSTART:20260308T070000
END:DAYLIGHT
BEGIN:STANDARD
TZOFFSETFROM:-0400
TZOFFSETTO:-0500
TZNAME:EST
DTSTART:20261101T060000
END:STANDARD
END:VTIMEZONE
BEGIN:VEVENT
DTSTART;VALUE=DATE:20250801
DTEND;VALUE=DATE:20250905
DTSTAMP:20260425T062053
CREATED:20250715T174946Z
LAST-MODIFIED:20250715T181539Z
UID:10000201-1754006400-1757030399@www.shepherdofthevalley.com
SUMMARY:Project Cozy
DESCRIPTION:Join us in spreading warmth! Shepherd of the Valley’s Boardman and Poland communities are proud to host a Summer coat drive benefiting The Brightside Project! We will be collecting NEW (must have price tag attached) coats\, hats\, and mittens to help children and families in need stay warm this coming season. Your kindness today can bring warmth to someone’s tomorrow! \nDonations will be accepted from August 1 through September 4\, 2025\, and can be dropped off at our Boardman and Poland communities. For questions\, please contact Logan Peservich at 330-726-9061 ext. 2418 or Patty Haman at 330-726-7110 ext. 2318. \n  \n\n\n\nDates: Friday\, August 1 – Thursday\, September 4 \n\n\nDropoff Locations: Shepherd of the Valley Boardman (7148 West Blvd.\, Boardman\, OH 44512) and Shepherd of the Valley Poland (301 W. Western Reserve Rd.\, Poland\, OH 44514)
URL:https://www.shepherdofthevalley.com/event/project-cozy/
LOCATION:Shepherd of the Valley-Boardman\, 7148 West. Blvd.\, Youngstown\, OH\, 44512\, United States
ATTACH;FMTTYPE=image/webp:https://www.shepherdofthevalley.com/wp-content/uploads/2025/07/Project-Cozy-Cover-Image.webp
END:VEVENT
BEGIN:VEVENT
DTSTART;TZID=America/New_York:20250812T163000
DTEND;TZID=America/New_York:20250812T173000
DTSTAMP:20260425T062053
CREATED:20250718T142114Z
LAST-MODIFIED:20250718T142114Z
UID:10000203-1755016200-1755019800@www.shepherdofthevalley.com
SUMMARY:Support Group Meeting
DESCRIPTION:We understand the struggle of being a caregiver to a loved one and want you to know that you are not alone. That’s why\, along with our friends at Buckeye Hospice and Palliative Care and Compass Palliative Care\, we are bringing a support group to our community! Join us each month for light refreshments and conversation on topics like disease processes and end-of-life decisions\, caregiver support\, available resources\, grief management\, and more. This event is open to the public. \nFor more information\, call 330-544-0771. \n  \nDate: Second Tuesday of Every Month\nTime: 4:30 – 5:30 P.M. \nLocation: Shepherd of the Valley Liberty\n1501 Tibbetts-Wick Road\, Girard\, OH 44420
URL:https://www.shepherdofthevalley.com/event/support-group-meeting/2025-08-12/
LOCATION:Shepherd of the Valley-Liberty\, 1501 Tibbetts-Wick Road\, Girard\, OH\, 44420\, United States
ATTACH;FMTTYPE=image/webp:https://www.shepherdofthevalley.com/wp-content/uploads/2025/07/Support-Group-meeting-Cover-Image.webp
END:VEVENT
END:VCALENDAR