BEGIN:VCALENDAR
VERSION:2.0
PRODID:-//Shepherd of the Valley - ECPv6.15.20//NONSGML v1.0//EN
CALSCALE:GREGORIAN
METHOD:PUBLISH
X-WR-CALNAME:Shepherd of the Valley
X-ORIGINAL-URL:https://www.shepherdofthevalley.com
X-WR-CALDESC:Events for Shepherd of the Valley
REFRESH-INTERVAL;VALUE=DURATION:PT1H
X-Robots-Tag:noindex
X-PUBLISHED-TTL:PT1H
BEGIN:VTIMEZONE
TZID:America/New_York
BEGIN:DAYLIGHT
TZOFFSETFROM:-0500
TZOFFSETTO:-0400
TZNAME:EDT
DTSTART:20210314T070000
END:DAYLIGHT
BEGIN:STANDARD
TZOFFSETFROM:-0400
TZOFFSETTO:-0500
TZNAME:EST
DTSTART:20211107T060000
END:STANDARD
BEGIN:DAYLIGHT
TZOFFSETFROM:-0500
TZOFFSETTO:-0400
TZNAME:EDT
DTSTART:20220313T070000
END:DAYLIGHT
BEGIN:STANDARD
TZOFFSETFROM:-0400
TZOFFSETTO:-0500
TZNAME:EST
DTSTART:20221106T060000
END:STANDARD
BEGIN:DAYLIGHT
TZOFFSETFROM:-0500
TZOFFSETTO:-0400
TZNAME:EDT
DTSTART:20230312T070000
END:DAYLIGHT
BEGIN:STANDARD
TZOFFSETFROM:-0400
TZOFFSETTO:-0500
TZNAME:EST
DTSTART:20231105T060000
END:STANDARD
BEGIN:DAYLIGHT
TZOFFSETFROM:-0500
TZOFFSETTO:-0400
TZNAME:EDT
DTSTART:20240310T070000
END:DAYLIGHT
BEGIN:STANDARD
TZOFFSETFROM:-0400
TZOFFSETTO:-0500
TZNAME:EST
DTSTART:20241103T060000
END:STANDARD
END:VTIMEZONE
BEGIN:VTIMEZONE
TZID:UTC
BEGIN:STANDARD
TZOFFSETFROM:+0000
TZOFFSETTO:+0000
TZNAME:UTC
DTSTART:20210101T000000
END:STANDARD
END:VTIMEZONE
BEGIN:VEVENT
DTSTART;TZID=America/New_York:20230510T150000
DTEND;TZID=America/New_York:20230510T180000
DTSTAMP:20260425T103004
CREATED:20230324T183623Z
LAST-MODIFIED:20230324T183623Z
UID:10000025-1683730800-1683741600@www.shepherdofthevalley.com
SUMMARY:Open House and Ribbon-Cutting
DESCRIPTION:Shepherd of the Valley Lutheran Retirement Services\, Inc. will celebrate their newest retirement community with a ribbon-cutting ceremony on Wednesday May 10\, 2023 at 3pm\, followed by an open house event. \nAt an impressive 173\,375-square-feet\, Shepherd’s Liberty community sits on 55 acres and offers a full continuum of care including: senior living apartments\, assisted living and memory care suites\, skilled nursing and rehabilitation with premium ventilator care. \nThe ribbon-cutting ceremony will serve as the community’s grand opening\, which opened July 21\, 2020. “We are thrilled to finally celebrate our newest community that opened during the pandemic\,” shares CEO Rich Limongi\, “At Shepherd of the Valley\, premium\, person-centered care and services are our priority. Liberty’s state-of-the-art community provides another option where seniors can thrive and enjoy maintenance-free living.” \nPress is invited and the public is encouraged to join for the free open house event scheduled from 3-6pm. Appetizers and drinks will be provided while guests explore the community. Staff will also be available for guided tours. \n  \nQuestions? Contact marketing@shepherdofthevalley.com or call 330-544-0771
URL:https://www.shepherdofthevalley.com/event/libertyopenhouse/
LOCATION:Shepherd of the Valley-Liberty\, 1501 Tibbetts-Wick Road\, Girard\, OH\, 44420\, United States
ATTACH;FMTTYPE=image/png:https://www.shepherdofthevalley.com/wp-content/uploads/2023/03/liberty_open_house_social_5.23_a.png
END:VEVENT
BEGIN:VEVENT
DTSTART;TZID=America/New_York:20230510T100000
DTEND;TZID=America/New_York:20230510T110000
DTSTAMP:20260425T103004
CREATED:20230331T200137Z
LAST-MODIFIED:20230331T200137Z
UID:10000027-1683712800-1683716400@www.shepherdofthevalley.com
SUMMARY:History of Restaurants
DESCRIPTION:Trumbull County has so many great restaurants\, many who have been local staples for generations! Wednesday May 10th at 10am\, join us in our Howland community to discuss the history of local restaurants! Did your family own or work in a current or past local restaurant? We would love to hear your story and see your photos and artifacts! \nPresented by the Trumbull County Historical Society\, this FREE monthly series is hosted at Shepherd’s Howland location: 4100 North River Rd. NE\, Warren\, OH 44484\nWe welcome you to bring your photos\, bring your memorabilia and bring your stories! This will be an interactive event for you to share your own history of Restaurants! \nTo RSVP\, call Rachel at 330-856-9232 ext. 2618
URL:https://www.shepherdofthevalley.com/event/history-of-restaurants/
LOCATION:Shepherd of the Valley-Howland\, 4100 North River Rd.\, Warren\, OH\, 44484\, United States
ATTACH;FMTTYPE=image/png:https://www.shepherdofthevalley.com/wp-content/uploads/2023/03/Howland_trumbull_historical_society_2023_social_MAY_RESTAURANTS.png
ORGANIZER;CN="Rachel Ellis":MAILTO:rellis@shepherdofthevalley.com
END:VEVENT
BEGIN:VEVENT
DTSTART;TZID=America/New_York:20230509T120000
DTEND;TZID=America/New_York:20230509T160000
DTSTAMP:20260425T103004
CREATED:20230310T155415Z
LAST-MODIFIED:20230810T152542Z
UID:10000041-1683633600-1683648000@www.shepherdofthevalley.com
SUMMARY:Monthly Card Parties
DESCRIPTION:Monthly card parties are back! This community favorite is back in full swing in our Howland and Poland communities! Shepherd’s card parties are free and open to the public. Come as a single or bring your fellow card buddies for an afternoon of fun! Don’t forget to RSVP to reserve your spot at one of these FREE monthly card party events! \n\n\n \n\n\nShepherd’s monthly card parties are held the second Tuesday of each month (Howland 12pm – 4pm and Poland 1pm – 4pm). Space is limited\, so please RSVP by the Friday before each event. An optional lunch will also be available for $6 per player in Howland\, and Poland will be serving free light refreshments.\n\n\n \n\n\nRSVP by the Friday before the event and ask for the Receptionist!\n\n\nHOWLAND: Call 330-856-9232 to RSVP\, event held at Shepherd of the Valley\, 4100 North River Rd. NE\, Warren\, OH 44484\n\n\nPOLAND: Call 330-726-7110 to RSVP\, event held at Shepherd of the Valley\, 301 W. Western Reserve Rd.\, Poland\, OH 44514
URL:https://www.shepherdofthevalley.com/event/monthly-card-parties/2023-05-09/
LOCATION:OH
ATTACH;FMTTYPE=application/pdf:https://www.shepherdofthevalley.com/wp-content/uploads/2023/03/monthly_card_party_1.23_social_general.pdf
ORGANIZER;CN="Shepherd of the Valley":MAILTO:info@shepherdofthevalley.com
END:VEVENT
BEGIN:VEVENT
DTSTART;TZID=America/New_York:20230419T100000
DTEND;TZID=America/New_York:20230419T150000
DTSTAMP:20260425T103004
CREATED:20230407T161708Z
LAST-MODIFIED:20230407T161708Z
UID:10000028-1681898400-1681916400@www.shepherdofthevalley.com
SUMMARY:Open Interviews!
DESCRIPTION:Hiring all positions including housekeeping\, residential aides\, STNAs\, nurses and more during our Open Interviews Hiring Event! Apply in-person and meet with our Recruiter during our LIVE Open Interviews Hiring Event! Jobs available in our Mahoning and Trumbull communities and home health. Join us Wednesday April 19th from 10-3 at our corporate office in Austintown. \nReady to apply now or have questions? Call us at 330-530-4038 ext. 2043 or email info@shepherdofthevalley.com \nYou can also apply online today at: www.shepherdofthevalley.com/careers \n  \n  \nEOE Statement: Shepherd of the Valley Lutheran Retirement Inc.is an Equal Opportunity Employer and does not discriminate on the basis of race\, creed\, color\, religion\, sex\, national origin\, age\, veteran status\, disability\, marital status\, sexual orientation\, citizenship status\, genetic information\, gender identity\, or any other protected status under applicable law.
URL:https://www.shepherdofthevalley.com/event/open-interviews/
LOCATION:Shepherd of the Valley Corporate Office\, 5525 Silica Rd.\, Youngstown\, OH\, 44515\, United States
CATEGORIES:Hiring
ATTACH;FMTTYPE=image/png:https://www.shepherdofthevalley.com/wp-content/uploads/2023/04/HR_JOB_FAIR_corporate_4.19.23_paid_ad.png
ORGANIZER;CN="Shepherd of the Valley":MAILTO:info@shepherdofthevalley.com
END:VEVENT
BEGIN:VEVENT
DTSTART;TZID=America/New_York:20230412T100000
DTEND;TZID=America/New_York:20230412T113000
DTSTAMP:20260425T103004
CREATED:20230324T185542Z
LAST-MODIFIED:20230324T185823Z
UID:10000026-1681293600-1681299000@www.shepherdofthevalley.com
SUMMARY:Coffee & Conversations: Packard Electric
DESCRIPTION:Join us as we explore the rich history of Trumbull County! Presented by the Trumbull County Historical Society\, this monthly series will be hosted at Shepherd of the Valley in Howland on the second Wednesday of the month at 10am. The topic for our first event in April will be Packard Electric and held on Wednesday April 12th. This series is planned to continue through July at Shepherd’s Howland location: 4100 North River Rd. NE\, Warren\, OH 44484\nWe welcome you to bring your photos\, bring your memorabilia and bring your stories! This will be an interactive event for you to share your own history of Packard Electric! \nTo RSVP\, call Rachel at 330-856-9232 ext. 2618
URL:https://www.shepherdofthevalley.com/event/coffeeandconversations/
LOCATION:Shepherd of the Valley-Howland\, 4100 North River Rd.\, Warren\, OH\, 44484\, United States
ATTACH;FMTTYPE=image/png:https://www.shepherdofthevalley.com/wp-content/uploads/2023/03/Howland_trumbull_historical_society_2023_social.png
ORGANIZER;CN="Rachel Ellis":MAILTO:rellis@shepherdofthevalley.com
END:VEVENT
BEGIN:VEVENT
DTSTART;TZID=America/New_York:20230411T120000
DTEND;TZID=America/New_York:20230411T160000
DTSTAMP:20260425T103004
CREATED:20230310T155415Z
LAST-MODIFIED:20230810T152542Z
UID:10000024-1681214400-1681228800@www.shepherdofthevalley.com
SUMMARY:Monthly Card Parties
DESCRIPTION:Monthly card parties are back! This community favorite is back in full swing in our Howland and Poland communities! Shepherd’s card parties are free and open to the public. Come as a single or bring your fellow card buddies for an afternoon of fun! Don’t forget to RSVP to reserve your spot at one of these FREE monthly card party events! \n\n\n \n\n\nShepherd’s monthly card parties are held the second Tuesday of each month (Howland 12pm – 4pm and Poland 1pm – 4pm). Space is limited\, so please RSVP by the Friday before each event. An optional lunch will also be available for $6 per player in Howland\, and Poland will be serving free light refreshments.\n\n\n \n\n\nRSVP by the Friday before the event and ask for the Receptionist!\n\n\nHOWLAND: Call 330-856-9232 to RSVP\, event held at Shepherd of the Valley\, 4100 North River Rd. NE\, Warren\, OH 44484\n\n\nPOLAND: Call 330-726-7110 to RSVP\, event held at Shepherd of the Valley\, 301 W. Western Reserve Rd.\, Poland\, OH 44514
URL:https://www.shepherdofthevalley.com/event/monthly-card-parties/2023-04-11/
LOCATION:OH
ATTACH;FMTTYPE=application/pdf:https://www.shepherdofthevalley.com/wp-content/uploads/2023/03/monthly_card_party_1.23_social_general.pdf
ORGANIZER;CN="Shepherd of the Valley":MAILTO:info@shepherdofthevalley.com
END:VEVENT
BEGIN:VEVENT
DTSTART;TZID=America/New_York:20230405T170000
DTEND;TZID=America/New_York:20230405T190000
DTSTAMP:20260425T103004
CREATED:20230306T181714Z
LAST-MODIFIED:20230306T181755Z
UID:10000023-1680714000-1680721200@www.shepherdofthevalley.com
SUMMARY:10 Warning Signs of Dementia
DESCRIPTION:Join us to review the 10 Warning Signs of Dementia. Dinner will be provided and time will be allotted for Q & A. Spots are limited\, please reserve your free tickets early. \nReserve your ticket: https://www.eventbrite.com/e/567110902977 \nHosted by Shepherd of the Valley and presented by Regime Willis of the Alzheimer’s Association.
URL:https://www.shepherdofthevalley.com/event/10-warning-signs-of-dementia/
LOCATION:Shepherd of the Valley-Liberty\, 1501 Tibbetts-Wick Road\, Girard\, OH\, 44420\, United States
ATTACH;FMTTYPE=image/png:https://www.shepherdofthevalley.com/wp-content/uploads/2023/03/dementia_alzheimers_liberty_event_4.23.png
END:VEVENT
BEGIN:VEVENT
DTSTART;TZID=America/New_York:20230322T090000
DTEND;TZID=America/New_York:20230322T120000
DTSTAMP:20260425T103004
CREATED:20230306T114025Z
LAST-MODIFIED:20230306T114025Z
UID:10000022-1679475600-1679486400@www.shepherdofthevalley.com
SUMMARY:Open Interviews - Hiring All Positions
DESCRIPTION:Work for one of the leading senior health care providers in the valley! Nursing\, Aides\, Housekeeping\, Environmental Services\, Dietary and home health – we are growing our teams! Great benefits package\, student loan programs\, annual reviews\, growth opportunities AND all employees are eligible for Shepherd’s free STNA program! \nDate: Wednesday\, March 22nd \nTime: 9 am-12 pm \nLocation: Shepherd of the Valley\, 4100 North River Rd. Warren\, OH 44484 \nQuestions: Contact Ashley Estes at 330-530-4038 ext. 2043 or aestes@shepherdofthevalley.com \nReady to apply now? Apply at www.shepherdofthevalley.com/careers. \n  \n 
URL:https://www.shepherdofthevalley.com/event/open-interviews-hiring-all-positions/
LOCATION:Shepherd of the Valley-Howland\, 4100 North River Rd.\, Warren\, OH\, 44484\, United States
ATTACH;FMTTYPE=image/png:https://www.shepherdofthevalley.com/wp-content/uploads/2023/03/hr_recruitment_open_interviews_howland_3.34.png
END:VEVENT
BEGIN:VEVENT
DTSTART;TZID=America/New_York:20230310T170000
DTEND;TZID=America/New_York:20230310T200000
DTSTAMP:20260425T103004
CREATED:20230127T195357Z
LAST-MODIFIED:20230310T160132Z
UID:10000020-1678467600-1678478400@www.shepherdofthevalley.com
SUMMARY:Bourbon\, Beer & BBQ!
DESCRIPTION:Penguin City Brewing Company\n460 E Federal St\, Youngstown\, OH 44503 \nTickets on sale for Bourbon\, Brews and BBQ! Space is limited and RSVPs are encouraged early. Enjoy samples of Bourbon and/or crafted beers from Penguin City Beer and an array of savory BBQ and southern heavy app selections from Cockeye BBQ. \nChoose your ticket and pay online: \n$75 ticket includes 10 beer and/or bourbon samples and food \n$100 ticket includes 15 beer and/or bourbon samples and food \nPlease RSVP by March 7th! \nProceeds benefit Shepherd’s Foundation\, a 501(c)(3) \n  \n\n \n\n\n\nTicket options:\n\n\nGeneral 10 samples + food $75.00 USDVIP 15 samples + food $100.00 USD\n\n\n\n\n\n \n  \n  \n\nTo buy Raffle Tickets the day of the event\, click here:
URL:https://www.shepherdofthevalley.com/event/bourbon-beer-bbq/
LOCATION:Penguin City Brewing Company\, 460 E Federal St\, Youngstown\, OH\, 44503\, United States
ATTACH;FMTTYPE=image/png:https://www.shepherdofthevalley.com/wp-content/uploads/2023/01/bourbon_brews_bbq_social_foundation_3.23.png
END:VEVENT
BEGIN:VEVENT
DTSTART;TZID=America/New_York:20230223T090000
DTEND;TZID=America/New_York:20230226T180000
DTSTAMP:20260425T103004
CREATED:20230222T174812Z
LAST-MODIFIED:20230223T214925Z
UID:10000021-1677142800-1677434400@www.shepherdofthevalley.com
SUMMARY:Paw It Fur-ward
DESCRIPTION:Shepherd of the Valley is collecting donations to support Angels for Animals! \nDonated items will help provide aid to pet families in need and help with the increasing costs of supplies to care for shelter animals. Donations will be accepted at Shepherd’s Boardman community\, located at 7148 West. Blvd. on Thursday\, February 23rd through Sunday\, February 26th from 9am – 6pm each day. \nDuring this event\, Shepherd will be collecting the below items. All donations will be accepted with the preferred brands noted below: \n\nDog and Cat Food (Preferred brands include: PEDIGREE® Dog Food and Friskies® Pate Chicken and/or Turkey)\nCat Litter (Clumping)\nToys and Treats (Preferred brands include: Milk-Bone® and TEMPTATIONS™)\n\nQuestions can be directed to Patty Haman at 330-726-9061 ext. 2418 or phaman@shepherdofthevalley.com
URL:https://www.shepherdofthevalley.com/event/paw-it-fur-ward/
LOCATION:Shepherd of the Valley-Boardman\, 7148 West. Blvd.\, Youngstown\, OH\, 44512\, United States
ATTACH;FMTTYPE=image/png:https://www.shepherdofthevalley.com/wp-content/uploads/2023/02/paw_furward_angels_boardman_event_social_2.23_extended.png
END:VEVENT
BEGIN:VEVENT
DTSTART;TZID=America/New_York:20220930T080000
DTEND;TZID=America/New_York:20221031T170000
DTSTAMP:20260425T103004
CREATED:20220930T193126Z
LAST-MODIFIED:20220930T193126Z
UID:10000019-1664524800-1667235600@www.shepherdofthevalley.com
SUMMARY:Fresh Holiday Greenery Sale!
DESCRIPTION:The holidays are fast-approaching and we’re excited to begin our Holiday Greenery sale now through October 31st! Shop our selection of beautiful\, fresh Christmas greenery for local pick-up or delivery direct to your home. Local pick-up items are planned for arrival at our Austintown office before Thanksgiving. \nShop online at: https://sherwoodfundraiser.com/shepherdsfoundation2022/ or contact Shepherd’s Foundation Director Tony Perrone at 330-530-4038 x2028 or foundation@shepherdofthevalley.com.
URL:https://www.shepherdofthevalley.com/event/fresh-holiday-greenery-sale/
LOCATION:Shepherd of the Valley Corporate Office\, 5525 Silica Rd.\, Youngstown\, OH\, 44515\, United States
ATTACH;FMTTYPE=image/png:https://www.shepherdofthevalley.com/wp-content/uploads/2022/09/foundation_sherwood_forest_sale_SOCIAL_2022.png
ORGANIZER;CN="Tony Perrone%2C Shepherd of the Valley's Foundation Director":MAILTO:foundation@shepherdofthevalley.com
END:VEVENT
BEGIN:VEVENT
DTSTART;VALUE=DATE:20220624
DTEND;VALUE=DATE:20220625
DTSTAMP:20260425T103004
CREATED:20210616T234633Z
LAST-MODIFIED:20220624T185312Z
UID:10000018-1656028800-1656115199@www.shepherdofthevalley.com
SUMMARY:50th Anniversary Golf Outing\, presented by Huntington
DESCRIPTION:All proceeds of the Shepherd of the Valley 50th Anniversary Golf Outing will support the nonprofit mission of Shepherd’s Foundation\, a 501 (c)(3). Funding received through Shepherd’s Foundation helps to provide activities for residents and professional development opportunities for staff of Shepherd of the Valley Lutheran Retirement Services\, Inc. \nDo you or your business want to help be a part of this great event? Email foundation@shepherdofthevalley.com to become a $100 hole sponsor\, donate a prize or add your company’s marketing items to our swag bags! \nDownload Flyer
URL:https://www.shepherdofthevalley.com/event/golf-outing/
LOCATION:Old Avalon Golf Course\, 9794 E Market St\, Warren\, OH\, 44484\, United States
ATTACH;FMTTYPE=image/png:https://www.shepherdofthevalley.com/wp-content/uploads/2021/06/foundation_golf_outing_websiteupdatedLOGO.png
END:VEVENT
END:VCALENDAR