BEGIN:VCALENDAR
VERSION:2.0
PRODID:-//Shepherd of the Valley - ECPv6.15.20//NONSGML v1.0//EN
CALSCALE:GREGORIAN
METHOD:PUBLISH
X-WR-CALNAME:Shepherd of the Valley
X-ORIGINAL-URL:https://www.shepherdofthevalley.com
X-WR-CALDESC:Events for Shepherd of the Valley
REFRESH-INTERVAL;VALUE=DURATION:PT1H
X-Robots-Tag:noindex
X-PUBLISHED-TTL:PT1H
BEGIN:VTIMEZONE
TZID:America/New_York
BEGIN:DAYLIGHT
TZOFFSETFROM:-0500
TZOFFSETTO:-0400
TZNAME:EDT
DTSTART:20250309T070000
END:DAYLIGHT
BEGIN:STANDARD
TZOFFSETFROM:-0400
TZOFFSETTO:-0500
TZNAME:EST
DTSTART:20251102T060000
END:STANDARD
BEGIN:DAYLIGHT
TZOFFSETFROM:-0500
TZOFFSETTO:-0400
TZNAME:EDT
DTSTART:20260308T070000
END:DAYLIGHT
BEGIN:STANDARD
TZOFFSETFROM:-0400
TZOFFSETTO:-0500
TZNAME:EST
DTSTART:20261101T060000
END:STANDARD
BEGIN:DAYLIGHT
TZOFFSETFROM:-0500
TZOFFSETTO:-0400
TZNAME:EDT
DTSTART:20270314T070000
END:DAYLIGHT
BEGIN:STANDARD
TZOFFSETFROM:-0400
TZOFFSETTO:-0500
TZNAME:EST
DTSTART:20271107T060000
END:STANDARD
END:VTIMEZONE
BEGIN:VEVENT
DTSTART;TZID=America/New_York:20260908T120000
DTEND;TZID=America/New_York:20260908T160000
DTSTAMP:20260425T081153
CREATED:20260317T184243Z
LAST-MODIFIED:20260317T184243Z
UID:10000267-1788868800-1788883200@www.shepherdofthevalley.com
SUMMARY:Monthly Card Parties at SOV Howland
DESCRIPTION:Calling all card players! You’re invited to join our Independent Living residents for a monthly card game. This event is perfect for those interested in making the transition to senior living. \nLunch will be available for $12/person – includes soup & salad bar\, entrée\, and dessert. \n  \n\n\n\nDate: 2nd Tuesday of Every Month (4/14/26 – 12/8/26) \n\n\nTime: 12:00 – 4:00 P.M. \n\n\nLocation: Shepherd of the Valley Howland Main Dining Room \n  \n\n\n\n\n\nRegister by the Friday before each event by calling the Howland Receptionist at 330-856-9232.
URL:https://www.shepherdofthevalley.com/event/monthly-card-parties-at-sov-howland/2026-09-08/
LOCATION:Shepherd of the Valley-Howland\, 4100 North River Rd.\, Warren\, OH\, 44484\, United States
ATTACH;FMTTYPE=image/webp:https://www.shepherdofthevalley.com/wp-content/uploads/2026/03/Card-Party-Cover-Images-NEW-2025.webp
END:VEVENT
BEGIN:VEVENT
DTSTART;TZID=America/New_York:20260908T163000
DTEND;TZID=America/New_York:20260908T173000
DTSTAMP:20260425T081153
CREATED:20250718T142114Z
LAST-MODIFIED:20250718T142114Z
UID:10000216-1788885000-1788888600@www.shepherdofthevalley.com
SUMMARY:Support Group Meeting
DESCRIPTION:We understand the struggle of being a caregiver to a loved one and want you to know that you are not alone. That’s why\, along with our friends at Buckeye Hospice and Palliative Care and Compass Palliative Care\, we are bringing a support group to our community! Join us each month for light refreshments and conversation on topics like disease processes and end-of-life decisions\, caregiver support\, available resources\, grief management\, and more. This event is open to the public. \nFor more information\, call 330-544-0771. \n  \nDate: Second Tuesday of Every Month\nTime: 4:30 – 5:30 P.M. \nLocation: Shepherd of the Valley Liberty\n1501 Tibbetts-Wick Road\, Girard\, OH 44420
URL:https://www.shepherdofthevalley.com/event/support-group-meeting/2026-09-08/
LOCATION:Shepherd of the Valley-Liberty\, 1501 Tibbetts-Wick Road\, Girard\, OH\, 44420\, United States
ATTACH;FMTTYPE=image/webp:https://www.shepherdofthevalley.com/wp-content/uploads/2025/07/Support-Group-meeting-Cover-Image.webp
END:VEVENT
BEGIN:VEVENT
DTSTART;TZID=America/New_York:20260909T100000
DTEND;TZID=America/New_York:20260909T130000
DTSTAMP:20260425T081153
CREATED:20260217T132700Z
LAST-MODIFIED:20260219T175559Z
UID:10000237-1788948000-1788958800@www.shepherdofthevalley.com
SUMMARY:Mah Jongg & Mingle
DESCRIPTION:Mark your calendars for monthly mah jongg parties at Shepherd of the Valley Poland! Grab 3 of your friends and bring your “A-Game” for a fun and friendly event.\nExperienced players are invited to join us for soup and salad while you mah jongg and mingle! \nSoup & Salad available for $8/person. \nRSVP to Poland reception by the Friday before each event by calling 330-726-7110. \nDate: Second & Fourth Wednesdays of Every Month\nTime: 10:00 a.m. – 1:00 p.m. | Lunch: 11:30 A.M.\nLocation: Shepherd of the Valley Poland – 301 W. Western Reserve Road\, Poland\, OH 44514
URL:https://www.shepherdofthevalley.com/event/mah-jongg-mingle-4/2026-09-09/
LOCATION:Shepherd of the Valley in Poland\, 301 W. Western Reserve Rd.\, Poland\, OH\, 44514\, United States
ATTACH;FMTTYPE=image/png:https://www.shepherdofthevalley.com/wp-content/uploads/2025/04/Mah-Jongg-Mingle-New-Cover-Image.png
END:VEVENT
BEGIN:VEVENT
DTSTART;TZID=America/New_York:20260923T100000
DTEND;TZID=America/New_York:20260923T130000
DTSTAMP:20260425T081153
CREATED:20260217T132837Z
LAST-MODIFIED:20260219T175516Z
UID:10000257-1790157600-1790168400@www.shepherdofthevalley.com
SUMMARY:Mah Jongg & Mingle
DESCRIPTION:Mark your calendars for monthly mah jongg parties at Shepherd of the Valley Poland! Grab 3 of your friends and bring your “A-Game” for a fun and friendly event.\nExperienced players are invited to join us for soup and salad while you mah jongg and mingle! \nSoup & Salad available for $8/person. \nRSVP to Poland reception by the Friday before each event by calling 330-726-7110. \nDate: Second & Fourth Wednesdays of Every Month\nTime: 10:00 a.m. – 1:00 p.m. | Lunch: 11:30 A.M.\nLocation: Shepherd of the Valley Poland – 301 W. Western Reserve Road\, Poland\, OH 44514
URL:https://www.shepherdofthevalley.com/event/mah-jongg-mingle-5/2026-09-23/
LOCATION:Shepherd of the Valley in Poland\, 301 W. Western Reserve Rd.\, Poland\, OH\, 44514\, United States
ATTACH;FMTTYPE=image/png:https://www.shepherdofthevalley.com/wp-content/uploads/2025/04/Mah-Jongg-Mingle-New-Cover-Image.png
END:VEVENT
BEGIN:VEVENT
DTSTART;TZID=America/New_York:20261013T120000
DTEND;TZID=America/New_York:20261013T160000
DTSTAMP:20260425T081153
CREATED:20260317T184243Z
LAST-MODIFIED:20260317T184243Z
UID:10000268-1791892800-1791907200@www.shepherdofthevalley.com
SUMMARY:Monthly Card Parties at SOV Howland
DESCRIPTION:Calling all card players! You’re invited to join our Independent Living residents for a monthly card game. This event is perfect for those interested in making the transition to senior living. \nLunch will be available for $12/person – includes soup & salad bar\, entrée\, and dessert. \n  \n\n\n\nDate: 2nd Tuesday of Every Month (4/14/26 – 12/8/26) \n\n\nTime: 12:00 – 4:00 P.M. \n\n\nLocation: Shepherd of the Valley Howland Main Dining Room \n  \n\n\n\n\n\nRegister by the Friday before each event by calling the Howland Receptionist at 330-856-9232.
URL:https://www.shepherdofthevalley.com/event/monthly-card-parties-at-sov-howland/2026-10-13/
LOCATION:Shepherd of the Valley-Howland\, 4100 North River Rd.\, Warren\, OH\, 44484\, United States
ATTACH;FMTTYPE=image/webp:https://www.shepherdofthevalley.com/wp-content/uploads/2026/03/Card-Party-Cover-Images-NEW-2025.webp
END:VEVENT
BEGIN:VEVENT
DTSTART;TZID=America/New_York:20261013T163000
DTEND;TZID=America/New_York:20261013T173000
DTSTAMP:20260425T081153
CREATED:20250718T142114Z
LAST-MODIFIED:20250718T142114Z
UID:10000217-1791909000-1791912600@www.shepherdofthevalley.com
SUMMARY:Support Group Meeting
DESCRIPTION:We understand the struggle of being a caregiver to a loved one and want you to know that you are not alone. That’s why\, along with our friends at Buckeye Hospice and Palliative Care and Compass Palliative Care\, we are bringing a support group to our community! Join us each month for light refreshments and conversation on topics like disease processes and end-of-life decisions\, caregiver support\, available resources\, grief management\, and more. This event is open to the public. \nFor more information\, call 330-544-0771. \n  \nDate: Second Tuesday of Every Month\nTime: 4:30 – 5:30 P.M. \nLocation: Shepherd of the Valley Liberty\n1501 Tibbetts-Wick Road\, Girard\, OH 44420
URL:https://www.shepherdofthevalley.com/event/support-group-meeting/2026-10-13/
LOCATION:Shepherd of the Valley-Liberty\, 1501 Tibbetts-Wick Road\, Girard\, OH\, 44420\, United States
ATTACH;FMTTYPE=image/webp:https://www.shepherdofthevalley.com/wp-content/uploads/2025/07/Support-Group-meeting-Cover-Image.webp
END:VEVENT
BEGIN:VEVENT
DTSTART;TZID=America/New_York:20261014T100000
DTEND;TZID=America/New_York:20261014T130000
DTSTAMP:20260425T081153
CREATED:20260217T132700Z
LAST-MODIFIED:20260219T175559Z
UID:10000238-1791972000-1791982800@www.shepherdofthevalley.com
SUMMARY:Mah Jongg & Mingle
DESCRIPTION:Mark your calendars for monthly mah jongg parties at Shepherd of the Valley Poland! Grab 3 of your friends and bring your “A-Game” for a fun and friendly event.\nExperienced players are invited to join us for soup and salad while you mah jongg and mingle! \nSoup & Salad available for $8/person. \nRSVP to Poland reception by the Friday before each event by calling 330-726-7110. \nDate: Second & Fourth Wednesdays of Every Month\nTime: 10:00 a.m. – 1:00 p.m. | Lunch: 11:30 A.M.\nLocation: Shepherd of the Valley Poland – 301 W. Western Reserve Road\, Poland\, OH 44514
URL:https://www.shepherdofthevalley.com/event/mah-jongg-mingle-4/2026-10-14/
LOCATION:Shepherd of the Valley in Poland\, 301 W. Western Reserve Rd.\, Poland\, OH\, 44514\, United States
ATTACH;FMTTYPE=image/png:https://www.shepherdofthevalley.com/wp-content/uploads/2025/04/Mah-Jongg-Mingle-New-Cover-Image.png
END:VEVENT
BEGIN:VEVENT
DTSTART;TZID=America/New_York:20261028T100000
DTEND;TZID=America/New_York:20261028T130000
DTSTAMP:20260425T081153
CREATED:20260217T132837Z
LAST-MODIFIED:20260219T175516Z
UID:10000258-1793181600-1793192400@www.shepherdofthevalley.com
SUMMARY:Mah Jongg & Mingle
DESCRIPTION:Mark your calendars for monthly mah jongg parties at Shepherd of the Valley Poland! Grab 3 of your friends and bring your “A-Game” for a fun and friendly event.\nExperienced players are invited to join us for soup and salad while you mah jongg and mingle! \nSoup & Salad available for $8/person. \nRSVP to Poland reception by the Friday before each event by calling 330-726-7110. \nDate: Second & Fourth Wednesdays of Every Month\nTime: 10:00 a.m. – 1:00 p.m. | Lunch: 11:30 A.M.\nLocation: Shepherd of the Valley Poland – 301 W. Western Reserve Road\, Poland\, OH 44514
URL:https://www.shepherdofthevalley.com/event/mah-jongg-mingle-5/2026-10-28/
LOCATION:Shepherd of the Valley in Poland\, 301 W. Western Reserve Rd.\, Poland\, OH\, 44514\, United States
ATTACH;FMTTYPE=image/png:https://www.shepherdofthevalley.com/wp-content/uploads/2025/04/Mah-Jongg-Mingle-New-Cover-Image.png
END:VEVENT
BEGIN:VEVENT
DTSTART;TZID=America/New_York:20261110T120000
DTEND;TZID=America/New_York:20261110T160000
DTSTAMP:20260425T081153
CREATED:20260317T184243Z
LAST-MODIFIED:20260317T184243Z
UID:10000269-1794312000-1794326400@www.shepherdofthevalley.com
SUMMARY:Monthly Card Parties at SOV Howland
DESCRIPTION:Calling all card players! You’re invited to join our Independent Living residents for a monthly card game. This event is perfect for those interested in making the transition to senior living. \nLunch will be available for $12/person – includes soup & salad bar\, entrée\, and dessert. \n  \n\n\n\nDate: 2nd Tuesday of Every Month (4/14/26 – 12/8/26) \n\n\nTime: 12:00 – 4:00 P.M. \n\n\nLocation: Shepherd of the Valley Howland Main Dining Room \n  \n\n\n\n\n\nRegister by the Friday before each event by calling the Howland Receptionist at 330-856-9232.
URL:https://www.shepherdofthevalley.com/event/monthly-card-parties-at-sov-howland/2026-11-10/
LOCATION:Shepherd of the Valley-Howland\, 4100 North River Rd.\, Warren\, OH\, 44484\, United States
ATTACH;FMTTYPE=image/webp:https://www.shepherdofthevalley.com/wp-content/uploads/2026/03/Card-Party-Cover-Images-NEW-2025.webp
END:VEVENT
BEGIN:VEVENT
DTSTART;TZID=America/New_York:20261110T163000
DTEND;TZID=America/New_York:20261110T173000
DTSTAMP:20260425T081153
CREATED:20250718T142114Z
LAST-MODIFIED:20250718T142114Z
UID:10000218-1794328200-1794331800@www.shepherdofthevalley.com
SUMMARY:Support Group Meeting
DESCRIPTION:We understand the struggle of being a caregiver to a loved one and want you to know that you are not alone. That’s why\, along with our friends at Buckeye Hospice and Palliative Care and Compass Palliative Care\, we are bringing a support group to our community! Join us each month for light refreshments and conversation on topics like disease processes and end-of-life decisions\, caregiver support\, available resources\, grief management\, and more. This event is open to the public. \nFor more information\, call 330-544-0771. \n  \nDate: Second Tuesday of Every Month\nTime: 4:30 – 5:30 P.M. \nLocation: Shepherd of the Valley Liberty\n1501 Tibbetts-Wick Road\, Girard\, OH 44420
URL:https://www.shepherdofthevalley.com/event/support-group-meeting/2026-11-10/
LOCATION:Shepherd of the Valley-Liberty\, 1501 Tibbetts-Wick Road\, Girard\, OH\, 44420\, United States
ATTACH;FMTTYPE=image/webp:https://www.shepherdofthevalley.com/wp-content/uploads/2025/07/Support-Group-meeting-Cover-Image.webp
END:VEVENT
BEGIN:VEVENT
DTSTART;TZID=America/New_York:20261111T100000
DTEND;TZID=America/New_York:20261111T130000
DTSTAMP:20260425T081153
CREATED:20260217T132700Z
LAST-MODIFIED:20260219T175559Z
UID:10000239-1794391200-1794402000@www.shepherdofthevalley.com
SUMMARY:Mah Jongg & Mingle
DESCRIPTION:Mark your calendars for monthly mah jongg parties at Shepherd of the Valley Poland! Grab 3 of your friends and bring your “A-Game” for a fun and friendly event.\nExperienced players are invited to join us for soup and salad while you mah jongg and mingle! \nSoup & Salad available for $8/person. \nRSVP to Poland reception by the Friday before each event by calling 330-726-7110. \nDate: Second & Fourth Wednesdays of Every Month\nTime: 10:00 a.m. – 1:00 p.m. | Lunch: 11:30 A.M.\nLocation: Shepherd of the Valley Poland – 301 W. Western Reserve Road\, Poland\, OH 44514
URL:https://www.shepherdofthevalley.com/event/mah-jongg-mingle-4/2026-11-11/
LOCATION:Shepherd of the Valley in Poland\, 301 W. Western Reserve Rd.\, Poland\, OH\, 44514\, United States
ATTACH;FMTTYPE=image/png:https://www.shepherdofthevalley.com/wp-content/uploads/2025/04/Mah-Jongg-Mingle-New-Cover-Image.png
END:VEVENT
BEGIN:VEVENT
DTSTART;TZID=America/New_York:20261125T100000
DTEND;TZID=America/New_York:20261125T130000
DTSTAMP:20260425T081153
CREATED:20260217T132837Z
LAST-MODIFIED:20260219T175516Z
UID:10000259-1795600800-1795611600@www.shepherdofthevalley.com
SUMMARY:Mah Jongg & Mingle
DESCRIPTION:Mark your calendars for monthly mah jongg parties at Shepherd of the Valley Poland! Grab 3 of your friends and bring your “A-Game” for a fun and friendly event.\nExperienced players are invited to join us for soup and salad while you mah jongg and mingle! \nSoup & Salad available for $8/person. \nRSVP to Poland reception by the Friday before each event by calling 330-726-7110. \nDate: Second & Fourth Wednesdays of Every Month\nTime: 10:00 a.m. – 1:00 p.m. | Lunch: 11:30 A.M.\nLocation: Shepherd of the Valley Poland – 301 W. Western Reserve Road\, Poland\, OH 44514
URL:https://www.shepherdofthevalley.com/event/mah-jongg-mingle-5/2026-11-25/
LOCATION:Shepherd of the Valley in Poland\, 301 W. Western Reserve Rd.\, Poland\, OH\, 44514\, United States
ATTACH;FMTTYPE=image/png:https://www.shepherdofthevalley.com/wp-content/uploads/2025/04/Mah-Jongg-Mingle-New-Cover-Image.png
END:VEVENT
BEGIN:VEVENT
DTSTART;TZID=America/New_York:20261208T120000
DTEND;TZID=America/New_York:20261208T160000
DTSTAMP:20260425T081153
CREATED:20260317T184243Z
LAST-MODIFIED:20260317T184243Z
UID:10000270-1796731200-1796745600@www.shepherdofthevalley.com
SUMMARY:Monthly Card Parties at SOV Howland
DESCRIPTION:Calling all card players! You’re invited to join our Independent Living residents for a monthly card game. This event is perfect for those interested in making the transition to senior living. \nLunch will be available for $12/person – includes soup & salad bar\, entrée\, and dessert. \n  \n\n\n\nDate: 2nd Tuesday of Every Month (4/14/26 – 12/8/26) \n\n\nTime: 12:00 – 4:00 P.M. \n\n\nLocation: Shepherd of the Valley Howland Main Dining Room \n  \n\n\n\n\n\nRegister by the Friday before each event by calling the Howland Receptionist at 330-856-9232.
URL:https://www.shepherdofthevalley.com/event/monthly-card-parties-at-sov-howland/2026-12-08/
LOCATION:Shepherd of the Valley-Howland\, 4100 North River Rd.\, Warren\, OH\, 44484\, United States
ATTACH;FMTTYPE=image/webp:https://www.shepherdofthevalley.com/wp-content/uploads/2026/03/Card-Party-Cover-Images-NEW-2025.webp
END:VEVENT
BEGIN:VEVENT
DTSTART;TZID=America/New_York:20261208T163000
DTEND;TZID=America/New_York:20261208T173000
DTSTAMP:20260425T081153
CREATED:20250718T142114Z
LAST-MODIFIED:20250718T142114Z
UID:10000219-1796747400-1796751000@www.shepherdofthevalley.com
SUMMARY:Support Group Meeting
DESCRIPTION:We understand the struggle of being a caregiver to a loved one and want you to know that you are not alone. That’s why\, along with our friends at Buckeye Hospice and Palliative Care and Compass Palliative Care\, we are bringing a support group to our community! Join us each month for light refreshments and conversation on topics like disease processes and end-of-life decisions\, caregiver support\, available resources\, grief management\, and more. This event is open to the public. \nFor more information\, call 330-544-0771. \n  \nDate: Second Tuesday of Every Month\nTime: 4:30 – 5:30 P.M. \nLocation: Shepherd of the Valley Liberty\n1501 Tibbetts-Wick Road\, Girard\, OH 44420
URL:https://www.shepherdofthevalley.com/event/support-group-meeting/2026-12-08/
LOCATION:Shepherd of the Valley-Liberty\, 1501 Tibbetts-Wick Road\, Girard\, OH\, 44420\, United States
ATTACH;FMTTYPE=image/webp:https://www.shepherdofthevalley.com/wp-content/uploads/2025/07/Support-Group-meeting-Cover-Image.webp
END:VEVENT
BEGIN:VEVENT
DTSTART;TZID=America/New_York:20261209T100000
DTEND;TZID=America/New_York:20261209T130000
DTSTAMP:20260425T081153
CREATED:20260217T132700Z
LAST-MODIFIED:20260219T175559Z
UID:10000240-1796810400-1796821200@www.shepherdofthevalley.com
SUMMARY:Mah Jongg & Mingle
DESCRIPTION:Mark your calendars for monthly mah jongg parties at Shepherd of the Valley Poland! Grab 3 of your friends and bring your “A-Game” for a fun and friendly event.\nExperienced players are invited to join us for soup and salad while you mah jongg and mingle! \nSoup & Salad available for $8/person. \nRSVP to Poland reception by the Friday before each event by calling 330-726-7110. \nDate: Second & Fourth Wednesdays of Every Month\nTime: 10:00 a.m. – 1:00 p.m. | Lunch: 11:30 A.M.\nLocation: Shepherd of the Valley Poland – 301 W. Western Reserve Road\, Poland\, OH 44514
URL:https://www.shepherdofthevalley.com/event/mah-jongg-mingle-4/2026-12-09/
LOCATION:Shepherd of the Valley in Poland\, 301 W. Western Reserve Rd.\, Poland\, OH\, 44514\, United States
ATTACH;FMTTYPE=image/png:https://www.shepherdofthevalley.com/wp-content/uploads/2025/04/Mah-Jongg-Mingle-New-Cover-Image.png
END:VEVENT
BEGIN:VEVENT
DTSTART;TZID=America/New_York:20261223T100000
DTEND;TZID=America/New_York:20261223T130000
DTSTAMP:20260425T081153
CREATED:20260217T132837Z
LAST-MODIFIED:20260219T175516Z
UID:10000260-1798020000-1798030800@www.shepherdofthevalley.com
SUMMARY:Mah Jongg & Mingle
DESCRIPTION:Mark your calendars for monthly mah jongg parties at Shepherd of the Valley Poland! Grab 3 of your friends and bring your “A-Game” for a fun and friendly event.\nExperienced players are invited to join us for soup and salad while you mah jongg and mingle! \nSoup & Salad available for $8/person. \nRSVP to Poland reception by the Friday before each event by calling 330-726-7110. \nDate: Second & Fourth Wednesdays of Every Month\nTime: 10:00 a.m. – 1:00 p.m. | Lunch: 11:30 A.M.\nLocation: Shepherd of the Valley Poland – 301 W. Western Reserve Road\, Poland\, OH 44514
URL:https://www.shepherdofthevalley.com/event/mah-jongg-mingle-5/2026-12-23/
LOCATION:Shepherd of the Valley in Poland\, 301 W. Western Reserve Rd.\, Poland\, OH\, 44514\, United States
ATTACH;FMTTYPE=image/png:https://www.shepherdofthevalley.com/wp-content/uploads/2025/04/Mah-Jongg-Mingle-New-Cover-Image.png
END:VEVENT
END:VCALENDAR