BEGIN:VCALENDAR
VERSION:2.0
PRODID:-//Shepherd of the Valley - ECPv6.15.20//NONSGML v1.0//EN
CALSCALE:GREGORIAN
METHOD:PUBLISH
X-ORIGINAL-URL:https://www.shepherdofthevalley.com
X-WR-CALDESC:Events for Shepherd of the Valley
REFRESH-INTERVAL;VALUE=DURATION:PT1H
X-Robots-Tag:noindex
X-PUBLISHED-TTL:PT1H
BEGIN:VTIMEZONE
TZID:America/New_York
BEGIN:DAYLIGHT
TZOFFSETFROM:-0500
TZOFFSETTO:-0400
TZNAME:EDT
DTSTART:20230312T070000
END:DAYLIGHT
BEGIN:STANDARD
TZOFFSETFROM:-0400
TZOFFSETTO:-0500
TZNAME:EST
DTSTART:20231105T060000
END:STANDARD
BEGIN:DAYLIGHT
TZOFFSETFROM:-0500
TZOFFSETTO:-0400
TZNAME:EDT
DTSTART:20240310T070000
END:DAYLIGHT
BEGIN:STANDARD
TZOFFSETFROM:-0400
TZOFFSETTO:-0500
TZNAME:EST
DTSTART:20241103T060000
END:STANDARD
BEGIN:DAYLIGHT
TZOFFSETFROM:-0500
TZOFFSETTO:-0400
TZNAME:EDT
DTSTART:20250309T070000
END:DAYLIGHT
BEGIN:STANDARD
TZOFFSETFROM:-0400
TZOFFSETTO:-0500
TZNAME:EST
DTSTART:20251102T060000
END:STANDARD
END:VTIMEZONE
BEGIN:VEVENT
DTSTART;TZID=America/New_York:20240809T100000
DTEND;TZID=America/New_York:20240809T130000
DTSTAMP:20260426T000323
CREATED:20240715T192451Z
LAST-MODIFIED:20240715T192922Z
UID:10000134-1723197600-1723208400@www.shepherdofthevalley.com
SUMMARY:Mah Jongg & Mingle
DESCRIPTION:Mark your calendars for monthly mah jongg parties at Shepherd of the Valley Poland! Grab 3 of your friends and bring your “a game” for a fun and friendly event. Experienced players are invited to join us for a soup and salad bar while you mah jongg and mingle! \nThese events $6/person and are open to the public. \nDate: Third Monday and second Friday of every month\nLocation: Shepherd of the Valley Poland – 301 W. Western Reserve Road\, Poland\, OH 44514\nTime: 10:00 A.M. – 1:00 P.M. – Lunch: 11:30 A.M. \nRSVP to Poland reception by the Friday before by calling 330-726-7110.
URL:https://www.shepherdofthevalley.com/event/mah-jongg-mingle-3-2/2024-08-09/
LOCATION:OH
END:VEVENT
BEGIN:VEVENT
DTSTART;TZID=America/New_York:20240819T100000
DTEND;TZID=America/New_York:20240819T130000
DTSTAMP:20260426T000323
CREATED:20240715T193130Z
LAST-MODIFIED:20240715T193131Z
UID:10000145-1724061600-1724072400@www.shepherdofthevalley.com
SUMMARY:Mah Jongg & Mingle
DESCRIPTION:Mark your calendars for monthly mah jongg parties at Shepherd of the Valley Poland! Grab 3 of your friends and bring your “a game” for a fun and friendly event. Experienced players are invited to join us for a soup and salad bar while you mah jongg and mingle! \nThese events $6/person and are open to the public. \nDate: Third Monday and second Friday of every month\nLocation: Shepherd of the Valley Poland – 301 W. Western Reserve Road\, Poland\, OH 44514\nTime: 10:00 A.M. – 1:00 P.M. – Lunch: 11:30 A.M.  \nRSVP to Poland reception by the Friday before by calling 330-726-7110.
URL:https://www.shepherdofthevalley.com/event/mah-jongg-mingle-2-2/2024-08-19/
LOCATION:OH
END:VEVENT
BEGIN:VEVENT
DTSTART;TZID=America/New_York:20240828T103000
DTEND;TZID=America/New_York:20240828T143000
DTSTAMP:20260426T000323
CREATED:20240521T153041Z
LAST-MODIFIED:20240521T153417Z
UID:10000154-1724841000-1724855400@www.shepherdofthevalley.com
SUMMARY:Howland Mah Jongg Tournament
DESCRIPTION:Join us for a Mah Jongg tournament at Shepherd of the Valley Howland! Enjoy fun games\, friendship\, and lunch with us and the chance to take home the 50/50 raffle and/or a basket prize! Presented by SCOPE Senior Services. \nDate: Wednesday\, August 28\nTime: Doors Open – 10:30 A.M. | Brunch Served: 11:00 A.M. | First Game – 12:00 P.M.\nPrice: $30 Per Person\nLocation: Shepherd of the Valley Howland – 4100 North River Road\, Warren\, OH 44484 \n\n\nMake checks payable to SCOPE\nMail to: Warren SCOPE\nAttn: Kevin Weber\n375 N. Park Ave. Warren\, OH 44481 \n\nAbout SCOPE (Senior Citizens Opportunity for Personal Endeavor)\nSCOPE offers many forms of dancing\, knitting/crochet\, Silver Sneakers\, Medicare assistance\, arts & crafts\, book chat\, Bingo\, exercise\, Bible study\, games\, tech help\, and much more.
URL:https://www.shepherdofthevalley.com/event/howland-mah-jongg-tournament/
LOCATION:Shepherd of the Valley-Howland\, 4100 North River Rd.\, Warren\, OH\, 44484\, United States
ATTACH;FMTTYPE=image/png:https://www.shepherdofthevalley.com/wp-content/uploads/2024/05/Mah-Jong-Tournament.png
END:VEVENT
END:VCALENDAR