BEGIN:VCALENDAR
VERSION:2.0
PRODID:-//Shepherd of the Valley - ECPv6.15.20//NONSGML v1.0//EN
CALSCALE:GREGORIAN
METHOD:PUBLISH
X-ORIGINAL-URL:https://www.shepherdofthevalley.com
X-WR-CALDESC:Events for Shepherd of the Valley
REFRESH-INTERVAL;VALUE=DURATION:PT1H
X-Robots-Tag:noindex
X-PUBLISHED-TTL:PT1H
BEGIN:VTIMEZONE
TZID:America/New_York
BEGIN:DAYLIGHT
TZOFFSETFROM:-0500
TZOFFSETTO:-0400
TZNAME:EDT
DTSTART:20240310T070000
END:DAYLIGHT
BEGIN:STANDARD
TZOFFSETFROM:-0400
TZOFFSETTO:-0500
TZNAME:EST
DTSTART:20241103T060000
END:STANDARD
BEGIN:DAYLIGHT
TZOFFSETFROM:-0500
TZOFFSETTO:-0400
TZNAME:EDT
DTSTART:20250309T070000
END:DAYLIGHT
BEGIN:STANDARD
TZOFFSETFROM:-0400
TZOFFSETTO:-0500
TZNAME:EST
DTSTART:20251102T060000
END:STANDARD
BEGIN:DAYLIGHT
TZOFFSETFROM:-0500
TZOFFSETTO:-0400
TZNAME:EDT
DTSTART:20260308T070000
END:DAYLIGHT
BEGIN:STANDARD
TZOFFSETFROM:-0400
TZOFFSETTO:-0500
TZNAME:EST
DTSTART:20261101T060000
END:STANDARD
END:VTIMEZONE
BEGIN:VEVENT
DTSTART;VALUE=DATE:20250210
DTEND;VALUE=DATE:20250415
DTSTAMP:20260425T123753
CREATED:20250210T202606Z
LAST-MODIFIED:20250401T143556Z
UID:10000195-1739145600-1744675199@www.shepherdofthevalley.com
SUMMARY:Operation Love at Shepherd of the Valley Liberty
DESCRIPTION:Shepherd of the Valley Liberty is partnering with Trumbull County Children Services for their annual community project to provide Easter baskets to area youth in foster care! \nDonations will be collected through April 14th and can be dropped off in the lobby of Shepherd of the Valley Liberty. High-need items are crayons\, coloring books\, chalk\, bubbles\, and other small toys. \nFor questions\, please contact Kim Osborn at 330-544-0771 ext. 2814.
URL:https://www.shepherdofthevalley.com/event/operation-love-at-shepherd-of-the-valley-liberty/
LOCATION:Shepherd of the Valley-Liberty\, 1501 Tibbetts-Wick Road\, Girard\, OH\, 44420\, United States
ATTACH;FMTTYPE=image/png:https://www.shepherdofthevalley.com/wp-content/uploads/2025/04/Operation-Love-New-Cover-Image.png
END:VEVENT
BEGIN:VEVENT
DTSTART;TZID=America/New_York:20250307T170000
DTEND;TZID=America/New_York:20250307T190000
DTSTAMP:20260425T123753
CREATED:20250108T190138Z
LAST-MODIFIED:20250122T205930Z
UID:10000191-1741366800-1741374000@www.shepherdofthevalley.com
SUMMARY:Shepherd's Foundation Bourbon & Wine Tasting
DESCRIPTION:Join us for an elegant evening of bourbon & wine tasting with Shepherd’s Foundation! Enjoy dinner & drinks with friends in support of the mission of Shepherd’s Foundation. \nTicket Price: $100/Attendee*\n*Ticket includes 5 drinks and food. \nDate: Friday\, March 7\nTime: 5:00-7:00 P.M.\nLocation: Youngstown Country Club\n1402 Country Club Drive\, Youngstown\, OH 44505
URL:https://www.shepherdofthevalley.com/event/shepherds-foundation-bourbon-wine-tasting/
LOCATION:Youngstown Country Club\, 1402 Country Club Drive\, Youngstown\, OH\, 44505\, United States
ATTACH;FMTTYPE=image/png:https://www.shepherdofthevalley.com/wp-content/uploads/2025/01/Bourbon-Wine-Events-Page-Cover-Images.png
END:VEVENT
BEGIN:VEVENT
DTSTART;TZID=America/New_York:20250314T100000
DTEND;TZID=America/New_York:20250314T130000
DTSTAMP:20260425T123753
CREATED:20250102T180652Z
LAST-MODIFIED:20250401T143654Z
UID:10000181-1741946400-1741957200@www.shepherdofthevalley.com
SUMMARY:Mah Jongg & Mingle
DESCRIPTION:Mark your calendars for monthly mah jongg parties at Shepherd of the Valley Poland! Grab 3 of your friends and bring your “a game” for a fun and friendly event. Experienced players are invited to join us for soup and salad while you mah jongg and mingle! \nThese events $6/person and are open to the public. \nDate: Third Monday and second Friday of every month\nLocation: Shepherd of the Valley Poland – 301 W. Western Reserve Road\, Poland\, OH 44514\nTime: 10:00 A.M. – 1:00 P.M. – Lunch: 11:30 A.M. \nRSVP to Poland reception by the Friday before by calling 330-726-7110.
URL:https://www.shepherdofthevalley.com/event/mah-jongg-mingle-3-2-2/2025-03-14/
LOCATION:OH
ATTACH;FMTTYPE=image/png:https://www.shepherdofthevalley.com/wp-content/uploads/2025/04/Mah-Jongg-Mingle-New-Cover-Image.png
END:VEVENT
BEGIN:VEVENT
DTSTART;TZID=America/New_York:20250317T100000
DTEND;TZID=America/New_York:20250317T130000
DTSTAMP:20260425T123753
CREATED:20250102T180456Z
LAST-MODIFIED:20250401T143626Z
UID:10000170-1742205600-1742216400@www.shepherdofthevalley.com
SUMMARY:Mah Jongg & Mingle
DESCRIPTION:Mark your calendars for monthly mah jongg parties at Shepherd of the Valley Poland! Grab 3 of your friends and bring your “a game” for a fun and friendly event. Experienced players are invited to join us for soup and salad while you mah jongg and mingle! \nThese events $6/person and are open to the public. \nDate: Third Monday and second Friday of every month\nLocation: Shepherd of the Valley Poland – 301 W. Western Reserve Road\, Poland\, OH 44514\nTime: 10:00 A.M. – 1:00 P.M. – Lunch: 11:30 A.M.  \nRSVP to Poland reception by the Friday before by calling 330-726-7110.
URL:https://www.shepherdofthevalley.com/event/mah-jongg-mingle-2-2-2/2025-03-17/
LOCATION:OH
ATTACH;FMTTYPE=image/png:https://www.shepherdofthevalley.com/wp-content/uploads/2025/04/Mah-Jongg-Mingle-New-Cover-Image.png
END:VEVENT
BEGIN:VEVENT
DTSTART;TZID=America/New_York:20250326T120000
DTEND;TZID=America/New_York:20250326T140000
DTSTAMP:20260425T123753
CREATED:20250117T194918Z
LAST-MODIFIED:20250117T194918Z
UID:10000192-1742990400-1742997600@www.shepherdofthevalley.com
SUMMARY:Building Foundations of Caregiving
DESCRIPTION:Join Shepherd of the Valley and Laura Cosentino of the Alzheimer’s Association for a community education event on building the foundations of caregiving. Learn valuable resources to benefit any caregiver while enjoying lunch with the community! This event is free and open to the public. \n\n\nDate: Wednesday\, March 26\nTime: 12:00 P.M.\nLocation: Shepherd of the Valley Liberty Wellness Center\n1501 Tibbetts-Wick Road\, Girard\, OH 44420 \nRSVP to the Liberty Receptionist by Tuesday\, March 25 by calling 330-544-0771.
URL:https://www.shepherdofthevalley.com/event/building-foundations-of-caregiving/
LOCATION:OH
ATTACH;FMTTYPE=image/png:https://www.shepherdofthevalley.com/wp-content/uploads/2025/01/Caregiving-Foundations-Events-Page-Cover.png
END:VEVENT
END:VCALENDAR