BEGIN:VCALENDAR
VERSION:2.0
PRODID:-//Shepherd of the Valley - ECPv6.15.20//NONSGML v1.0//EN
CALSCALE:GREGORIAN
METHOD:PUBLISH
X-WR-CALNAME:Shepherd of the Valley
X-ORIGINAL-URL:https://www.shepherdofthevalley.com
X-WR-CALDESC:Events for Shepherd of the Valley
REFRESH-INTERVAL;VALUE=DURATION:PT1H
X-Robots-Tag:noindex
X-PUBLISHED-TTL:PT1H
BEGIN:VTIMEZONE
TZID:America/New_York
BEGIN:DAYLIGHT
TZOFFSETFROM:-0500
TZOFFSETTO:-0400
TZNAME:EDT
DTSTART:20240310T070000
END:DAYLIGHT
BEGIN:STANDARD
TZOFFSETFROM:-0400
TZOFFSETTO:-0500
TZNAME:EST
DTSTART:20241103T060000
END:STANDARD
BEGIN:DAYLIGHT
TZOFFSETFROM:-0500
TZOFFSETTO:-0400
TZNAME:EDT
DTSTART:20250309T070000
END:DAYLIGHT
BEGIN:STANDARD
TZOFFSETFROM:-0400
TZOFFSETTO:-0500
TZNAME:EST
DTSTART:20251102T060000
END:STANDARD
BEGIN:DAYLIGHT
TZOFFSETFROM:-0500
TZOFFSETTO:-0400
TZNAME:EDT
DTSTART:20260308T070000
END:DAYLIGHT
BEGIN:STANDARD
TZOFFSETFROM:-0400
TZOFFSETTO:-0500
TZNAME:EST
DTSTART:20261101T060000
END:STANDARD
END:VTIMEZONE
BEGIN:VEVENT
DTSTART;VALUE=DATE:20250210
DTEND;VALUE=DATE:20250415
DTSTAMP:20260425T110331
CREATED:20250210T202606Z
LAST-MODIFIED:20250401T143556Z
UID:10000195-1739145600-1744675199@www.shepherdofthevalley.com
SUMMARY:Operation Love at Shepherd of the Valley Liberty
DESCRIPTION:Shepherd of the Valley Liberty is partnering with Trumbull County Children Services for their annual community project to provide Easter baskets to area youth in foster care! \nDonations will be collected through April 14th and can be dropped off in the lobby of Shepherd of the Valley Liberty. High-need items are crayons\, coloring books\, chalk\, bubbles\, and other small toys. \nFor questions\, please contact Kim Osborn at 330-544-0771 ext. 2814.
URL:https://www.shepherdofthevalley.com/event/operation-love-at-shepherd-of-the-valley-liberty/
LOCATION:Shepherd of the Valley-Liberty\, 1501 Tibbetts-Wick Road\, Girard\, OH\, 44420\, United States
ATTACH;FMTTYPE=image/png:https://www.shepherdofthevalley.com/wp-content/uploads/2025/04/Operation-Love-New-Cover-Image.png
END:VEVENT
BEGIN:VEVENT
DTSTART;TZID=America/New_York:20250411T100000
DTEND;TZID=America/New_York:20250411T130000
DTSTAMP:20260425T110331
CREATED:20250102T180652Z
LAST-MODIFIED:20250401T143654Z
UID:10000182-1744365600-1744376400@www.shepherdofthevalley.com
SUMMARY:Mah Jongg & Mingle
DESCRIPTION:Mark your calendars for monthly mah jongg parties at Shepherd of the Valley Poland! Grab 3 of your friends and bring your “a game” for a fun and friendly event. Experienced players are invited to join us for soup and salad while you mah jongg and mingle! \nThese events $6/person and are open to the public. \nDate: Third Monday and second Friday of every month\nLocation: Shepherd of the Valley Poland – 301 W. Western Reserve Road\, Poland\, OH 44514\nTime: 10:00 A.M. – 1:00 P.M. – Lunch: 11:30 A.M. \nRSVP to Poland reception by the Friday before by calling 330-726-7110.
URL:https://www.shepherdofthevalley.com/event/mah-jongg-mingle-3-2-2/2025-04-11/
LOCATION:OH
ATTACH;FMTTYPE=image/png:https://www.shepherdofthevalley.com/wp-content/uploads/2025/04/Mah-Jongg-Mingle-New-Cover-Image.png
END:VEVENT
BEGIN:VEVENT
DTSTART;TZID=America/New_York:20250415T100000
DTEND;TZID=America/New_York:20250415T140000
DTSTAMP:20260425T110331
CREATED:20250403T182722Z
LAST-MODIFIED:20250404T154249Z
UID:10000197-1744711200-1744725600@www.shepherdofthevalley.com
SUMMARY:OhioMeansJobs - Trumbull County Job Fair
DESCRIPTION:Shepherd of the Valley will be holding onsite open interviews at OhioMeansJobs Trumbull County office! We will be hiring for ALL POSITIONS at ALL COMMUNITIES! Individuals 16 + are invited to come meet with our HR team. \n\n\nDate: Tuesday\, April 15\nTime: 10:00 A.M. – 2:00 P.M. \nLocation: OhioMeansJobs – Trumbull County\n280 N. Park Avenue\, Warren\, OH 44481 \nPlease contact careers@shepherdofthevalley.com with any questions.
URL:https://www.shepherdofthevalley.com/event/ohiomeansjobs-job-fair/
LOCATION:OhioMeansJobs – Trumbull County\, 280 North Park Avenue\, Warren\, OH\, 44481\, United States
ATTACH;FMTTYPE=image/png:https://www.shepherdofthevalley.com/wp-content/uploads/2025/04/OMJ-Job-Fair-Cover-image.png
END:VEVENT
BEGIN:VEVENT
DTSTART;TZID=America/New_York:20250416T100000
DTEND;TZID=America/New_York:20250416T130000
DTSTAMP:20260425T110331
CREATED:20250127T203641Z
LAST-MODIFIED:20250401T143522Z
UID:10000193-1744797600-1744808400@www.shepherdofthevalley.com
SUMMARY:Poland Senior Resource Fair
DESCRIPTION:Join Shepherd of the Valley Poland for a FREE Senior Resource Fair on Wednesday\, April 16th! Talk with local experts and visit with various businesses in the community to see what resources are available to you! \nDate: Wednesday\, April 16th\nTime: 10:00 A.M. – 1:00 P.M.\nLocation: Shepherd of the Valley Poland – 301 W. Western Reserve Road\, Poland\, OH 44514
URL:https://www.shepherdofthevalley.com/event/poland-senior-resource-fair-2/
LOCATION:Shepherd of the Valley in Poland\, 301 W. Western Reserve Rd.\, Poland\, OH\, 44514\, United States
ATTACH;FMTTYPE=image/png:https://www.shepherdofthevalley.com/wp-content/uploads/2025/04/Poland-Resource-Fair-New-Cover-Image.png
END:VEVENT
BEGIN:VEVENT
DTSTART;TZID=America/New_York:20250421T100000
DTEND;TZID=America/New_York:20250421T130000
DTSTAMP:20260425T110331
CREATED:20250102T180456Z
LAST-MODIFIED:20250401T143626Z
UID:10000171-1745229600-1745240400@www.shepherdofthevalley.com
SUMMARY:Mah Jongg & Mingle
DESCRIPTION:Mark your calendars for monthly mah jongg parties at Shepherd of the Valley Poland! Grab 3 of your friends and bring your “a game” for a fun and friendly event. Experienced players are invited to join us for soup and salad while you mah jongg and mingle! \nThese events $6/person and are open to the public. \nDate: Third Monday and second Friday of every month\nLocation: Shepherd of the Valley Poland – 301 W. Western Reserve Road\, Poland\, OH 44514\nTime: 10:00 A.M. – 1:00 P.M. – Lunch: 11:30 A.M.  \nRSVP to Poland reception by the Friday before by calling 330-726-7110.
URL:https://www.shepherdofthevalley.com/event/mah-jongg-mingle-2-2-2/2025-04-21/
LOCATION:OH
ATTACH;FMTTYPE=image/png:https://www.shepherdofthevalley.com/wp-content/uploads/2025/04/Mah-Jongg-Mingle-New-Cover-Image.png
END:VEVENT
BEGIN:VEVENT
DTSTART;TZID=America/New_York:20250430T100000
DTEND;TZID=America/New_York:20250430T130000
DTSTAMP:20260425T110331
CREATED:20250127T203848Z
LAST-MODIFIED:20250401T143450Z
UID:10000194-1746007200-1746018000@www.shepherdofthevalley.com
SUMMARY:Liberty Senior Resource Fair
DESCRIPTION:Join Shepherd of the Valley Liberty for a FREE Senior Resource Fair on Wednesday\, April 30th! Talk with local experts and visit with various businesses in the community to see what resources are available to you! \nDate: Wednesday\, April 30th\nTime: 10:00 A.M. – 1:00 P.M.\nLocation: Shepherd of the Valley Liberty – 1501 Tibbetts-Wick Road\, Girard\, OH 44420
URL:https://www.shepherdofthevalley.com/event/liberty-senior-resource-fair-2/
LOCATION:Shepherd of the Valley-Liberty\, 1501 Tibbetts-Wick Road\, Girard\, OH\, 44420\, United States
ATTACH;FMTTYPE=image/png:https://www.shepherdofthevalley.com/wp-content/uploads/2025/04/Liberty-Resource-Fair-New-Cover-Image.png
END:VEVENT
END:VCALENDAR