BEGIN:VCALENDAR
VERSION:2.0
PRODID:-//Shepherd of the Valley - ECPv6.15.20//NONSGML v1.0//EN
CALSCALE:GREGORIAN
METHOD:PUBLISH
X-WR-CALNAME:Shepherd of the Valley
X-ORIGINAL-URL:https://www.shepherdofthevalley.com
X-WR-CALDESC:Events for Shepherd of the Valley
REFRESH-INTERVAL;VALUE=DURATION:PT1H
X-Robots-Tag:noindex
X-PUBLISHED-TTL:PT1H
BEGIN:VTIMEZONE
TZID:America/New_York
BEGIN:DAYLIGHT
TZOFFSETFROM:-0500
TZOFFSETTO:-0400
TZNAME:EDT
DTSTART:20240310T070000
END:DAYLIGHT
BEGIN:STANDARD
TZOFFSETFROM:-0400
TZOFFSETTO:-0500
TZNAME:EST
DTSTART:20241103T060000
END:STANDARD
BEGIN:DAYLIGHT
TZOFFSETFROM:-0500
TZOFFSETTO:-0400
TZNAME:EDT
DTSTART:20250309T070000
END:DAYLIGHT
BEGIN:STANDARD
TZOFFSETFROM:-0400
TZOFFSETTO:-0500
TZNAME:EST
DTSTART:20251102T060000
END:STANDARD
BEGIN:DAYLIGHT
TZOFFSETFROM:-0500
TZOFFSETTO:-0400
TZNAME:EDT
DTSTART:20260308T070000
END:DAYLIGHT
BEGIN:STANDARD
TZOFFSETFROM:-0400
TZOFFSETTO:-0500
TZNAME:EST
DTSTART:20261101T060000
END:STANDARD
END:VTIMEZONE
BEGIN:VEVENT
DTSTART;TZID=America/New_York:20250612T140000
DTEND;TZID=America/New_York:20250612T160000
DTSTAMP:20260425T075249
CREATED:20250527T191116Z
LAST-MODIFIED:20250527T191131Z
UID:10000200-1749736800-1749744000@www.shepherdofthevalley.com
SUMMARY:Shepherd of the Valley Poland Parade of Condos
DESCRIPTION:Stop by Shepherd of the Valley Poland and take a tour of our beautiful Independent Living community! Enjoy light refreshments in the Main Dining Room before viewing the different floor plans and amenities offered in our Independent Living condos. We will also have information about the available condos for prospective residents to take home. \nDate: Thursday\, June 12\nTime: 2:00 – 4:00 P.M. \nLocation: Shepherd of the Valley Poland\n301 W. Western Reserve Road\, Poland\, OH 44514 \nFor questions\, please contact Patty Haman at 330-726-7110 ext. 2318.
URL:https://www.shepherdofthevalley.com/event/shepherd-of-the-valley-poland-parade-of-condos/
LOCATION:Shepherd of the Valley in Poland\, 301 W. Western Reserve Rd.\, Poland\, OH\, 44514\, United States
ATTACH;FMTTYPE=image/webp:https://www.shepherdofthevalley.com/wp-content/uploads/2025/05/Parade-of-Homes-cover-image.webp
END:VEVENT
BEGIN:VEVENT
DTSTART;TZID=America/New_York:20250613T100000
DTEND;TZID=America/New_York:20250613T130000
DTSTAMP:20260425T075249
CREATED:20250102T180652Z
LAST-MODIFIED:20250401T143654Z
UID:10000184-1749808800-1749819600@www.shepherdofthevalley.com
SUMMARY:Mah Jongg & Mingle
DESCRIPTION:Mark your calendars for monthly mah jongg parties at Shepherd of the Valley Poland! Grab 3 of your friends and bring your “a game” for a fun and friendly event. Experienced players are invited to join us for soup and salad while you mah jongg and mingle! \nThese events $6/person and are open to the public. \nDate: Third Monday and second Friday of every month\nLocation: Shepherd of the Valley Poland – 301 W. Western Reserve Road\, Poland\, OH 44514\nTime: 10:00 A.M. – 1:00 P.M. – Lunch: 11:30 A.M. \nRSVP to Poland reception by the Friday before by calling 330-726-7110.
URL:https://www.shepherdofthevalley.com/event/mah-jongg-mingle-3-2-2/2025-06-13/
LOCATION:OH
ATTACH;FMTTYPE=image/png:https://www.shepherdofthevalley.com/wp-content/uploads/2025/04/Mah-Jongg-Mingle-New-Cover-Image.png
END:VEVENT
BEGIN:VEVENT
DTSTART;TZID=America/New_York:20250616T100000
DTEND;TZID=America/New_York:20250616T130000
DTSTAMP:20260425T075249
CREATED:20250102T180456Z
LAST-MODIFIED:20250401T143626Z
UID:10000173-1750068000-1750078800@www.shepherdofthevalley.com
SUMMARY:Mah Jongg & Mingle
DESCRIPTION:Mark your calendars for monthly mah jongg parties at Shepherd of the Valley Poland! Grab 3 of your friends and bring your “a game” for a fun and friendly event. Experienced players are invited to join us for soup and salad while you mah jongg and mingle! \nThese events $6/person and are open to the public. \nDate: Third Monday and second Friday of every month\nLocation: Shepherd of the Valley Poland – 301 W. Western Reserve Road\, Poland\, OH 44514\nTime: 10:00 A.M. – 1:00 P.M. – Lunch: 11:30 A.M.  \nRSVP to Poland reception by the Friday before by calling 330-726-7110.
URL:https://www.shepherdofthevalley.com/event/mah-jongg-mingle-2-2-2/2025-06-16/
LOCATION:OH
ATTACH;FMTTYPE=image/png:https://www.shepherdofthevalley.com/wp-content/uploads/2025/04/Mah-Jongg-Mingle-New-Cover-Image.png
END:VEVENT
END:VCALENDAR