BEGIN:VCALENDAR
VERSION:2.0
PRODID:-//Shepherd of the Valley - ECPv6.15.20//NONSGML v1.0//EN
CALSCALE:GREGORIAN
METHOD:PUBLISH
X-ORIGINAL-URL:https://www.shepherdofthevalley.com
X-WR-CALDESC:Events for Shepherd of the Valley
REFRESH-INTERVAL;VALUE=DURATION:PT1H
X-Robots-Tag:noindex
X-PUBLISHED-TTL:PT1H
BEGIN:VTIMEZONE
TZID:America/New_York
BEGIN:DAYLIGHT
TZOFFSETFROM:-0500
TZOFFSETTO:-0400
TZNAME:EDT
DTSTART:20240310T070000
END:DAYLIGHT
BEGIN:STANDARD
TZOFFSETFROM:-0400
TZOFFSETTO:-0500
TZNAME:EST
DTSTART:20241103T060000
END:STANDARD
BEGIN:DAYLIGHT
TZOFFSETFROM:-0500
TZOFFSETTO:-0400
TZNAME:EDT
DTSTART:20250309T070000
END:DAYLIGHT
BEGIN:STANDARD
TZOFFSETFROM:-0400
TZOFFSETTO:-0500
TZNAME:EST
DTSTART:20251102T060000
END:STANDARD
BEGIN:DAYLIGHT
TZOFFSETFROM:-0500
TZOFFSETTO:-0400
TZNAME:EDT
DTSTART:20260308T070000
END:DAYLIGHT
BEGIN:STANDARD
TZOFFSETFROM:-0400
TZOFFSETTO:-0500
TZNAME:EST
DTSTART:20261101T060000
END:STANDARD
END:VTIMEZONE
BEGIN:VEVENT
DTSTART;VALUE=DATE:20251101
DTEND;VALUE=DATE:20251221
DTSTAMP:20260425T001138
CREATED:20251105T211058Z
LAST-MODIFIED:20251105T211058Z
UID:10000224-1761955200-1766275199@www.shepherdofthevalley.com
SUMMARY:Santa Paws - Pet Supplies & Food Drive
DESCRIPTION:We’re excited to partner with the Animal Welfare League of Trumbull County in Vienna and New Lease on Life Animal Rescue in Struthers again this year for a pet supply and food drive! Items can be dropped off at Shepherd of the Valley’s Liberty & Poland communities. \nHigh need items include wet and dry dog food (Purina and Pedigree are preferred)\, cat food\, cat litter\, blankets\, treats\, toys\, timothy hay\, bleach\, liquid disinfectant\, and newspaper. \nDates: November 1 – December 20\nItems can be dropped off at Shepherd of the Valley Liberty and Poland communities.
URL:https://www.shepherdofthevalley.com/event/santa-paws-pet-supplies-food-drive/
LOCATION:OH
ATTACH;FMTTYPE=image/webp:https://www.shepherdofthevalley.com/wp-content/uploads/2025/11/Santa-Paws-2025-Events-Page-Cover-Image.webp
END:VEVENT
BEGIN:VEVENT
DTSTART;TZID=America/New_York:20251108T100000
DTEND;TZID=America/New_York:20251108T170000
DTSTAMP:20260425T001138
CREATED:20250829T185757Z
LAST-MODIFIED:20250829T185823Z
UID:10000222-1762596000-1762621200@www.shepherdofthevalley.com
SUMMARY:Shepherd's Foundation Donor Appreciation Event
DESCRIPTION:You’re invited to join Shepherd of the Valley & Shepherd’s Foundation for a Donor Appreciation Tailgate Party! Help us cheer on the Youngstown State Penguins as they take on the Southern Illinois Salukis! Food\, drinks\, and game tickets will be provided. \nTailgate: 10:00 A.M. | Gametime: 2:00 P.M. \nLocation: Lot M72 (Corner of Ford Avenue & Grant Street) \nPlease RSVP to Debbie Napolitano at dnapolitano@shepherdofthevalley.com or Jack Sebest at 330-207-4179.
URL:https://www.shepherdofthevalley.com/event/shepherds-foundation-donor-appreciation-event/
LOCATION:Lot M72 (YSU Campus)\, 544 Ford Avenue\, Youngstown\, 44502\, United States
ATTACH;FMTTYPE=image/webp:https://www.shepherdofthevalley.com/wp-content/uploads/2025/08/FDN-Donor-YSU-Event-Image.webp
END:VEVENT
BEGIN:VEVENT
DTSTART;TZID=America/New_York:20251111T163000
DTEND;TZID=America/New_York:20251111T173000
DTSTAMP:20260425T001138
CREATED:20250718T142114Z
LAST-MODIFIED:20250718T142114Z
UID:10000206-1762878600-1762882200@www.shepherdofthevalley.com
SUMMARY:Support Group Meeting
DESCRIPTION:We understand the struggle of being a caregiver to a loved one and want you to know that you are not alone. That’s why\, along with our friends at Buckeye Hospice and Palliative Care and Compass Palliative Care\, we are bringing a support group to our community! Join us each month for light refreshments and conversation on topics like disease processes and end-of-life decisions\, caregiver support\, available resources\, grief management\, and more. This event is open to the public. \nFor more information\, call 330-544-0771. \n  \nDate: Second Tuesday of Every Month\nTime: 4:30 – 5:30 P.M. \nLocation: Shepherd of the Valley Liberty\n1501 Tibbetts-Wick Road\, Girard\, OH 44420
URL:https://www.shepherdofthevalley.com/event/support-group-meeting/2025-11-11/
LOCATION:Shepherd of the Valley-Liberty\, 1501 Tibbetts-Wick Road\, Girard\, OH\, 44420\, United States
ATTACH;FMTTYPE=image/webp:https://www.shepherdofthevalley.com/wp-content/uploads/2025/07/Support-Group-meeting-Cover-Image.webp
END:VEVENT
BEGIN:VEVENT
DTSTART;TZID=America/New_York:20251112T130000
DTEND;TZID=America/New_York:20251112T170000
DTSTAMP:20260425T001138
CREATED:20251105T211312Z
LAST-MODIFIED:20251111T155847Z
UID:10000225-1762952400-1762966800@www.shepherdofthevalley.com
SUMMARY:Shepherd of the Valley Boardman Job Fair & Open interviews
DESCRIPTION:Shepherd of the Valley will be holding open interviews at our Boardman community for ALL POSITIONS at ALL COMMUNITIES! Individuals 16 + are invited to come meet with our HR team. Interested individuals can see open positions at shepherdofthevalley.com/careers. \n\n\nDate: Wednesday\, November 12 | Time: 1:00 – 5:00 P.M. \n\n\nLocation: Shepherd of the Valley Boardman\n7148 West Boulevard\, Boardman\, OH 44512 \nPlease contact careers@shepherdofthevalley.com with any questions.
URL:https://www.shepherdofthevalley.com/event/shepherd-of-the-valley-boardman-job-fair-open-interviews/
LOCATION:Shepherd of the Valley-Boardman\, 7148 West. Blvd.\, Youngstown\, OH\, 44512\, United States
ATTACH;FMTTYPE=image/webp:https://www.shepherdofthevalley.com/wp-content/uploads/2025/11/BDN-Job-Fair-Events-Page-Cover-Image.webp
END:VEVENT
BEGIN:VEVENT
DTSTART;TZID=America/New_York:20251114T100000
DTEND;TZID=America/New_York:20251114T130000
DTSTAMP:20260425T001138
CREATED:20250102T180652Z
LAST-MODIFIED:20250401T143654Z
UID:10000189-1763114400-1763125200@www.shepherdofthevalley.com
SUMMARY:Mah Jongg & Mingle
DESCRIPTION:Mark your calendars for monthly mah jongg parties at Shepherd of the Valley Poland! Grab 3 of your friends and bring your “a game” for a fun and friendly event. Experienced players are invited to join us for soup and salad while you mah jongg and mingle! \nThese events $6/person and are open to the public. \nDate: Third Monday and second Friday of every month\nLocation: Shepherd of the Valley Poland – 301 W. Western Reserve Road\, Poland\, OH 44514\nTime: 10:00 A.M. – 1:00 P.M. – Lunch: 11:30 A.M. \nRSVP to Poland reception by the Friday before by calling 330-726-7110.
URL:https://www.shepherdofthevalley.com/event/mah-jongg-mingle-3-2-2/2025-11-14/
LOCATION:OH
ATTACH;FMTTYPE=image/png:https://www.shepherdofthevalley.com/wp-content/uploads/2025/04/Mah-Jongg-Mingle-New-Cover-Image.png
END:VEVENT
BEGIN:VEVENT
DTSTART;TZID=America/New_York:20251117T100000
DTEND;TZID=America/New_York:20251117T130000
DTSTAMP:20260425T001138
CREATED:20250102T180456Z
LAST-MODIFIED:20250401T143626Z
UID:10000178-1763373600-1763384400@www.shepherdofthevalley.com
SUMMARY:Mah Jongg & Mingle
DESCRIPTION:Mark your calendars for monthly mah jongg parties at Shepherd of the Valley Poland! Grab 3 of your friends and bring your “a game” for a fun and friendly event. Experienced players are invited to join us for soup and salad while you mah jongg and mingle! \nThese events $6/person and are open to the public. \nDate: Third Monday and second Friday of every month\nLocation: Shepherd of the Valley Poland – 301 W. Western Reserve Road\, Poland\, OH 44514\nTime: 10:00 A.M. – 1:00 P.M. – Lunch: 11:30 A.M.  \nRSVP to Poland reception by the Friday before by calling 330-726-7110.
URL:https://www.shepherdofthevalley.com/event/mah-jongg-mingle-2-2-2/2025-11-17/
LOCATION:OH
ATTACH;FMTTYPE=image/png:https://www.shepherdofthevalley.com/wp-content/uploads/2025/04/Mah-Jongg-Mingle-New-Cover-Image.png
END:VEVENT
BEGIN:VEVENT
DTSTART;TZID=America/New_York:20251121T090000
DTEND;TZID=America/New_York:20251121T150000
DTSTAMP:20260425T001138
CREATED:20250916T195709Z
LAST-MODIFIED:20250916T195709Z
UID:10000223-1763715600-1763737200@www.shepherdofthevalley.com
SUMMARY:Fall Craft Show
DESCRIPTION:Join us at Shepherd of the Valley Liberty for our annual Fall Craft Show! Local vendors will have many different handmade and baked items for sale throughout the day! You can also take a tour of our amazing Liberty community! We hope to see everyone there for this fun community event. \nWe are also looking for vendors to join us for this fun event and share their crafts with the community! Table spaces are $20 per table and will fill up fast! Please RSVP to Kim Osborn at 330-544-0771 ext. 2814. \n\n\nDate: Friday\, November 21 | Time: 9:00 A.M. – 3:00 P.M. \n\n\nLocation: Shepherd of the Valley Liberty Independent Living Dining Room
URL:https://www.shepherdofthevalley.com/event/fall-craft-show-2/
LOCATION:Shepherd of the Valley-Liberty\, 1501 Tibbetts-Wick Road\, Girard\, OH\, 44420\, United States
ATTACH;FMTTYPE=image/webp:https://www.shepherdofthevalley.com/wp-content/uploads/2025/09/Craft-Show-2025-Event-Image.webp
END:VEVENT
END:VCALENDAR