BEGIN:VCALENDAR
VERSION:2.0
PRODID:-//Shepherd of the Valley - ECPv6.15.20//NONSGML v1.0//EN
CALSCALE:GREGORIAN
METHOD:PUBLISH
X-ORIGINAL-URL:https://www.shepherdofthevalley.com
X-WR-CALDESC:Events for Shepherd of the Valley
REFRESH-INTERVAL;VALUE=DURATION:PT1H
X-Robots-Tag:noindex
X-PUBLISHED-TTL:PT1H
BEGIN:VTIMEZONE
TZID:America/New_York
BEGIN:DAYLIGHT
TZOFFSETFROM:-0500
TZOFFSETTO:-0400
TZNAME:EDT
DTSTART:20220313T070000
END:DAYLIGHT
BEGIN:STANDARD
TZOFFSETFROM:-0400
TZOFFSETTO:-0500
TZNAME:EST
DTSTART:20221106T060000
END:STANDARD
BEGIN:DAYLIGHT
TZOFFSETFROM:-0500
TZOFFSETTO:-0400
TZNAME:EDT
DTSTART:20230312T070000
END:DAYLIGHT
BEGIN:STANDARD
TZOFFSETFROM:-0400
TZOFFSETTO:-0500
TZNAME:EST
DTSTART:20231105T060000
END:STANDARD
BEGIN:DAYLIGHT
TZOFFSETFROM:-0500
TZOFFSETTO:-0400
TZNAME:EDT
DTSTART:20240310T070000
END:DAYLIGHT
BEGIN:STANDARD
TZOFFSETFROM:-0400
TZOFFSETTO:-0500
TZNAME:EST
DTSTART:20241103T060000
END:STANDARD
BEGIN:DAYLIGHT
TZOFFSETFROM:-0500
TZOFFSETTO:-0400
TZNAME:EDT
DTSTART:20250309T070000
END:DAYLIGHT
BEGIN:STANDARD
TZOFFSETFROM:-0400
TZOFFSETTO:-0500
TZNAME:EST
DTSTART:20251102T060000
END:STANDARD
BEGIN:DAYLIGHT
TZOFFSETFROM:-0500
TZOFFSETTO:-0400
TZNAME:EDT
DTSTART:20260308T070000
END:DAYLIGHT
BEGIN:STANDARD
TZOFFSETFROM:-0400
TZOFFSETTO:-0500
TZNAME:EST
DTSTART:20261101T060000
END:STANDARD
BEGIN:DAYLIGHT
TZOFFSETFROM:-0500
TZOFFSETTO:-0400
TZNAME:EDT
DTSTART:20270314T070000
END:DAYLIGHT
BEGIN:STANDARD
TZOFFSETFROM:-0400
TZOFFSETTO:-0500
TZNAME:EST
DTSTART:20271107T060000
END:STANDARD
END:VTIMEZONE
BEGIN:VEVENT
DTSTART;TZID=America/New_York:20260414T120000
DTEND;TZID=America/New_York:20260414T160000
DTSTAMP:20260424T225716
CREATED:20260317T184243Z
LAST-MODIFIED:20260317T184243Z
UID:10000262-1776168000-1776182400@www.shepherdofthevalley.com
SUMMARY:Monthly Card Parties at SOV Howland
DESCRIPTION:Calling all card players! You’re invited to join our Independent Living residents for a monthly card game. This event is perfect for those interested in making the transition to senior living. \nLunch will be available for $12/person – includes soup & salad bar\, entrée\, and dessert. \n  \n\n\n\nDate: 2nd Tuesday of Every Month (4/14/26 – 12/8/26) \n\n\nTime: 12:00 – 4:00 P.M. \n\n\nLocation: Shepherd of the Valley Howland Main Dining Room \n  \n\n\n\n\n\nRegister by the Friday before each event by calling the Howland Receptionist at 330-856-9232.
URL:https://www.shepherdofthevalley.com/event/monthly-card-parties-at-sov-howland/2026-04-14/
LOCATION:Shepherd of the Valley-Howland\, 4100 North River Rd.\, Warren\, OH\, 44484\, United States
ATTACH;FMTTYPE=image/webp:https://www.shepherdofthevalley.com/wp-content/uploads/2026/03/Card-Party-Cover-Images-NEW-2025.webp
END:VEVENT
BEGIN:VEVENT
DTSTART;TZID=America/New_York:20260114T100000
DTEND;TZID=America/New_York:20260114T160000
DTSTAMP:20260424T225716
CREATED:20260107T175023Z
LAST-MODIFIED:20260107T175023Z
UID:10000229-1768384800-1768406400@www.shepherdofthevalley.com
SUMMARY:Job Fair & Open Interviews at SOV Howland
DESCRIPTION:Shepherd of the Valley will be holding open interviews at our Howland community for ALL POSITIONS at ALL COMMUNITIES! Individuals 16 + are invited to come meet with our HR team. \nDate: Wednesday\, January 14\, 2026\nTime: 10:00 A.M. – 4:00 P.M. \nLocation: Shepherd of the Valley Howland\n4100 N. River Road NE\, Warren\, OH 44484 \nPlease contact careers@shepherdofthevalley.com with any questions.
URL:https://www.shepherdofthevalley.com/event/job-fair-open-interviews-at-sov-howland/
LOCATION:Shepherd of the Valley-Howland\, 4100 North River Rd.\, Warren\, OH\, 44484\, United States
ATTACH;FMTTYPE=image/webp:https://www.shepherdofthevalley.com/wp-content/uploads/2026/01/SOVB-Job-Fair-event-Image.webp
END:VEVENT
BEGIN:VEVENT
DTSTART;TZID=America/New_York:20250819T100000
DTEND;TZID=America/New_York:20250819T140000
DTSTAMP:20260424T225716
CREATED:20250801T185335Z
LAST-MODIFIED:20250801T185335Z
UID:10000220-1755597600-1755612000@www.shepherdofthevalley.com
SUMMARY:Howland Parade of Condos
DESCRIPTION:Stop by Shepherd of the Valley Howland and take a tour of our beautiful Independent Living community! Enjoy light refreshments in the Main Dining Room before viewing the different floor plans and amenities offered in our Independent Living condos. We will also have information about the available condos for prospective residents to take home. \n\n\nDate: Tuesday\, August 19 | Time: 10:00 A.M. – 2:00 P.M. \n\n\nLocation: Shepherd of the Valley Howland\n4100 North River Road NE\, Warren\, OH 44484 \n\nPlease RSVP by Monday\, August 18 to Rachel Ellis at 330-856-9232 ext. 2618
URL:https://www.shepherdofthevalley.com/event/howland-parade-of-condos/
LOCATION:Shepherd of the Valley-Howland\, 4100 North River Rd.\, Warren\, OH\, 44484\, United States
ATTACH;FMTTYPE=image/webp:https://www.shepherdofthevalley.com/wp-content/uploads/2025/08/SOVH-Parade-of-Condos-Event-Image.webp
END:VEVENT
BEGIN:VEVENT
DTSTART;TZID=America/New_York:20250520T100000
DTEND;TZID=America/New_York:20250520T140000
DTSTAMP:20260424T225716
CREATED:20250417T194326Z
LAST-MODIFIED:20250417T194326Z
UID:10000199-1747735200-1747749600@www.shepherdofthevalley.com
SUMMARY:SOV Howland Puzzle Competition
DESCRIPTION:Calling all puzzlers! Do you think you and your friends are the fastest puzzlers in the area? Join us at Shepherd of the Valley Howland to test your skills! \nWe will be holding a puzzling competition in the Main Dining Room of Shepherd of the Valley Howland. Puzzlers will have 2 hours to complete (or be the closest to finishing) a 250 piece puzzle with their team. Teams can include a max of 4 people. We will have refreshments available before the puzzling begins and prizes for the winners! \n\n\nDate: Tuesday\, May 20\nRefreshments: 10:30 A.M. | Puzzling: 11:00 A.M.\nLocation: Shepherd of the Valley Howland Main Dining Room\n4100 North River Road NE\, Warren\, OH 44484 \n\n\n\nTo RSVP for your group\, please call Rachel Ellis by Friday\, May 16 at 330-856-9232 ext. 2618.
URL:https://www.shepherdofthevalley.com/event/sov-howland-puzzle-competition/
LOCATION:Shepherd of the Valley-Howland\, 4100 North River Rd.\, Warren\, OH\, 44484\, United States
ATTACH;FMTTYPE=image/png:https://www.shepherdofthevalley.com/wp-content/uploads/2025/04/Puzzle-Cover-Image.png
END:VEVENT
BEGIN:VEVENT
DTSTART;TZID=America/New_York:20250501T100000
DTEND;TZID=America/New_York:20250501T180000
DTSTAMP:20260424T225716
CREATED:20250414T184200Z
LAST-MODIFIED:20250414T184200Z
UID:10000198-1746093600-1746122400@www.shepherdofthevalley.com
SUMMARY:Howland Community Job Fair & Open Interviews
DESCRIPTION:Shepherd of the Valley will be holding open interviews at our Howland community for ALL POSITIONS at ALL LOCATIONS! Individuals 16 + are invited to come meet with our HR team. \n  \n\n\nDate: Thursday\, May 1\nTime: 10:00 A.M. – 6:00 P.M. \n\n\nLocation: Shepherd of the Valley Howland\n4100 N. River Road NE\, Warren\, OH 44484 \n\nPlease contact careers@shepherdofthevalley.com with any questions.
URL:https://www.shepherdofthevalley.com/event/howland-community-job-fair-open-interviews/
LOCATION:Shepherd of the Valley-Howland\, 4100 North River Rd.\, Warren\, OH\, 44484\, United States
ATTACH;FMTTYPE=image/png:https://www.shepherdofthevalley.com/wp-content/uploads/2025/04/Howland-Job-Fair-Cover-Image-2025.png
END:VEVENT
BEGIN:VEVENT
DTSTART;TZID=America/New_York:20240926T100000
DTEND;TZID=America/New_York:20240926T180000
DTSTAMP:20260424T225716
CREATED:20240923T125634Z
LAST-MODIFIED:20240923T125634Z
UID:10000166-1727344800-1727373600@www.shepherdofthevalley.com
SUMMARY:Job Fair & Open Interviews
DESCRIPTION:Shepherd of the Valley will be holding open interviews at our Howland & Liberty communities for ALL POSITIONS at ALL COMMUNITIES! Individuals 16 + are invited to come meet with our HR team. \nDate: Thursday\, September 26 | Time: 10:00 A.M. – 6:00 P.M. \nLocation: Shepherd of the Valley Howland – 4100 N. River Road NE\, Warren\, OH 44484 \nAND Shepherd of the Valley Liberty – 1501 Tibbetts-Wick Road\, Girard\, OH 44420 \nFor questions\, please contact careers@shepherdofthevalley.com. \n 
URL:https://www.shepherdofthevalley.com/event/job-fair-open-interviews/
LOCATION:Shepherd of the Valley-Howland\, 4100 North River Rd.\, Warren\, OH\, 44484\, United States
ATTACH;FMTTYPE=image/png:https://www.shepherdofthevalley.com/wp-content/uploads/2024/09/Sept-2024-Job-Fair-Event-Page-Image.png
END:VEVENT
BEGIN:VEVENT
DTSTART;TZID=America/New_York:20240828T103000
DTEND;TZID=America/New_York:20240828T143000
DTSTAMP:20260424T225716
CREATED:20240521T153041Z
LAST-MODIFIED:20240521T153417Z
UID:10000154-1724841000-1724855400@www.shepherdofthevalley.com
SUMMARY:Howland Mah Jongg Tournament
DESCRIPTION:Join us for a Mah Jongg tournament at Shepherd of the Valley Howland! Enjoy fun games\, friendship\, and lunch with us and the chance to take home the 50/50 raffle and/or a basket prize! Presented by SCOPE Senior Services. \nDate: Wednesday\, August 28\nTime: Doors Open – 10:30 A.M. | Brunch Served: 11:00 A.M. | First Game – 12:00 P.M.\nPrice: $30 Per Person\nLocation: Shepherd of the Valley Howland – 4100 North River Road\, Warren\, OH 44484 \n\n\nMake checks payable to SCOPE\nMail to: Warren SCOPE\nAttn: Kevin Weber\n375 N. Park Ave. Warren\, OH 44481 \n\nAbout SCOPE (Senior Citizens Opportunity for Personal Endeavor)\nSCOPE offers many forms of dancing\, knitting/crochet\, Silver Sneakers\, Medicare assistance\, arts & crafts\, book chat\, Bingo\, exercise\, Bible study\, games\, tech help\, and much more.
URL:https://www.shepherdofthevalley.com/event/howland-mah-jongg-tournament/
LOCATION:Shepherd of the Valley-Howland\, 4100 North River Rd.\, Warren\, OH\, 44484\, United States
ATTACH;FMTTYPE=image/png:https://www.shepherdofthevalley.com/wp-content/uploads/2024/05/Mah-Jong-Tournament.png
END:VEVENT
BEGIN:VEVENT
DTSTART;TZID=America/New_York:20240711T100000
DTEND;TZID=America/New_York:20240711T180000
DTSTAMP:20260424T225716
CREATED:20240618T134816Z
LAST-MODIFIED:20240618T134816Z
UID:10000156-1720692000-1720720800@www.shepherdofthevalley.com
SUMMARY:Open House Job Interviews at SOV Howland
DESCRIPTION:Shepherd of the Valley will be holding open interviews at our Howland community for ALL POSITIONS at ALL COMMUNITIES! Individuals 16 + are invited to come meet with our HR team. \nDate: Thursday\, July 11\nTime: 10:00 A.M. – 6:00 P.M. \nLocation: Shepherd of the Valley Howland\n4100 N. River Road NE\, Warren\, OH 44484 \nPlease contact careers@shepherdofthevalley.com with any questions.
URL:https://www.shepherdofthevalley.com/event/open-house-job-interviews-at-sov-howland/
LOCATION:Shepherd of the Valley-Howland\, 4100 North River Rd.\, Warren\, OH\, 44484\, United States
ATTACH;FMTTYPE=image/png:https://www.shepherdofthevalley.com/wp-content/uploads/2024/06/Events-Page-Cover-Images.png
END:VEVENT
BEGIN:VEVENT
DTSTART;TZID=America/New_York:20231012T140000
DTEND;TZID=America/New_York:20231012T160000
DTSTAMP:20260424T225716
CREATED:20230811T200940Z
LAST-MODIFIED:20230811T201122Z
UID:10000052-1697119200-1697126400@www.shepherdofthevalley.com
SUMMARY:Free Technology Event
DESCRIPTION:Don’t trip over technology! Join us at Shepherd’s Howland Community for a free Technology Event! \n\nBring your own device\nLearn some tips & tricks\nConnect with family & friends\n\nHAVE QUESTIONS? GET ANSWERS! \nThis is a free event and is open to the public. \nRSVP TO 330.856.9232 \nPresented by: Family Tech Connect
URL:https://www.shepherdofthevalley.com/event/free-technology-event/
LOCATION:Shepherd of the Valley-Howland\, 4100 North River Rd.\, Warren\, OH\, 44484\, United States
ATTACH;FMTTYPE=application/pdf:https://www.shepherdofthevalley.com/wp-content/uploads/2023/08/fall_tech_event_social_10.23.pdf
END:VEVENT
BEGIN:VEVENT
DTSTART;TZID=America/New_York:20230908T103000
DTEND;TZID=America/New_York:20230908T233000
DTSTAMP:20260424T225716
CREATED:20230825T140812Z
LAST-MODIFIED:20230825T141208Z
UID:10000055-1694169000-1694215800@www.shepherdofthevalley.com
SUMMARY:Coffee & Conversations: High School Football
DESCRIPTION:Are you ready for some football?  Join us for our FREE Coffee & Conversations event on the second Friday of the month at 10:30 am. This month\, we will come together at Shepherd’s Howland community to relive the glory days of area high school gridiron greats under the Friday (and Saturday) night lights! \nHosted by the Trumbull County Historical Society\, we welcome you to bring your photos\, bring your memorabilia and bring your stories! Coffee & Conversations is an interactive event for you to share your own history of high school football! \nTo RSVP\, call Rachel at 330-856-9232 ext. 2618 \nTo learn more about Shepherd’s senior living communities\, visit our home page: www.shepherdofthevalley.com.
URL:https://www.shepherdofthevalley.com/event/coffee-conversations-high-school-football/2023-09-08/
LOCATION:Shepherd of the Valley-Howland\, 4100 North River Rd.\, Warren\, OH\, 44484\, United States
ATTACH;FMTTYPE=application/pdf:https://www.shepherdofthevalley.com/wp-content/uploads/2023/08/Howland_trumbull_historical_society_2023_SOCIAL_SEPT_HS-FOOTBALL-1.pdf
END:VEVENT
BEGIN:VEVENT
DTSTART;TZID=America/New_York:20230712T100000
DTEND;TZID=America/New_York:20230712T110000
DTSTAMP:20260424T225716
CREATED:20230619T145848Z
LAST-MODIFIED:20230619T150340Z
UID:10000033-1689156000-1689159600@www.shepherdofthevalley.com
SUMMARY:Coffee & Conversations: County Fair
DESCRIPTION:Who doesn’t love the Trumbull County Fair? Join our next FREE Coffee & Conversations event on Wednesday July 12th at 10am at Shepherd’s Howland community! Hosted by the Trumbull County Historical Society\, we will take a walk down memory lane to discuss past fairs and how it has evolved over the years!\n\n\nWe welcome you to bring your photos\, bring your memorabilia and bring your stories! Coffee & Conversations is an interactive event for you to share your own history of the Trumbull County Fair! Located at Shepherd of the Valley in Howland: 4100 North River Rd. NE\, Warren\, OH 44484\n\n\nTo RSVP\, call Rachel at 330-856-9232 ext. 2618\n\n\nGreat news: More dates for “Coffee & Conversations” coming soon for events to be hosted at both our Howland and Liberty communities!\n\nTo learn more about Shepherd’s senior living communities\, visit our home page: www.shepherdofthevalley.com
URL:https://www.shepherdofthevalley.com/event/coffee-conversations-county-fair/
LOCATION:Shepherd of the Valley-Howland\, 4100 North River Rd.\, Warren\, OH\, 44484\, United States
ATTACH;FMTTYPE=image/png:https://www.shepherdofthevalley.com/wp-content/uploads/2023/06/Howland_trumbull_historical_society_2023_social_JULY_COUNTY_FAIRS.png
ORGANIZER;CN="Rachel Ellis":MAILTO:rellis@shepherdofthevalley.com
END:VEVENT
BEGIN:VEVENT
DTSTART;TZID=America/New_York:20230614T100000
DTEND;TZID=America/New_York:20230614T110000
DTSTAMP:20260424T225716
CREATED:20230505T153932Z
LAST-MODIFIED:20230505T153932Z
UID:10000029-1686736800-1686740400@www.shepherdofthevalley.com
SUMMARY:Coffee & Conversations: Department Stores
DESCRIPTION:Remember the days of strolling downtown and popping into the many local department stores? Maybe you or a family member worked at one? Join our next FREE Coffee & Conversations event on Wednesday June 14th at 10am at Shepherd’s Howland community! Hosted by the Trumbull County Historical Society\, we will take a walk down memory lane to discuss past department stores such as Hart’s Shoe Store and Griswold!\n\n\nWe welcome you to bring your photos\, bring your memorabilia and bring your stories! Coffee & Conversations is an interactive event for you to share your own history of Department Stores! Located at Shepherd of the Valley in Howland: 4100 North River Rd. NE\, Warren\, OH 44484\n\n\nTo RSVP\, call Rachel at 330-856-9232 ext. 2618\n\nTo learn more about Shepherd’s senior living communities\, visit our home page: www.shepherdofthevalley.com
URL:https://www.shepherdofthevalley.com/event/coffee-conversations-department-stores/
LOCATION:Shepherd of the Valley-Howland\, 4100 North River Rd.\, Warren\, OH\, 44484\, United States
ATTACH;FMTTYPE=image/png:https://www.shepherdofthevalley.com/wp-content/uploads/2023/05/Howland_trumbull_historical_society_2023_social_JUNE_DEPT_STORES.png
ORGANIZER;CN="Rachel Ellis":MAILTO:rellis@shepherdofthevalley.com
END:VEVENT
BEGIN:VEVENT
DTSTART;TZID=America/New_York:20230510T100000
DTEND;TZID=America/New_York:20230510T110000
DTSTAMP:20260424T225716
CREATED:20230331T200137Z
LAST-MODIFIED:20230331T200137Z
UID:10000027-1683712800-1683716400@www.shepherdofthevalley.com
SUMMARY:History of Restaurants
DESCRIPTION:Trumbull County has so many great restaurants\, many who have been local staples for generations! Wednesday May 10th at 10am\, join us in our Howland community to discuss the history of local restaurants! Did your family own or work in a current or past local restaurant? We would love to hear your story and see your photos and artifacts! \nPresented by the Trumbull County Historical Society\, this FREE monthly series is hosted at Shepherd’s Howland location: 4100 North River Rd. NE\, Warren\, OH 44484\nWe welcome you to bring your photos\, bring your memorabilia and bring your stories! This will be an interactive event for you to share your own history of Restaurants! \nTo RSVP\, call Rachel at 330-856-9232 ext. 2618
URL:https://www.shepherdofthevalley.com/event/history-of-restaurants/
LOCATION:Shepherd of the Valley-Howland\, 4100 North River Rd.\, Warren\, OH\, 44484\, United States
ATTACH;FMTTYPE=image/png:https://www.shepherdofthevalley.com/wp-content/uploads/2023/03/Howland_trumbull_historical_society_2023_social_MAY_RESTAURANTS.png
ORGANIZER;CN="Rachel Ellis":MAILTO:rellis@shepherdofthevalley.com
END:VEVENT
BEGIN:VEVENT
DTSTART;TZID=America/New_York:20230412T100000
DTEND;TZID=America/New_York:20230412T113000
DTSTAMP:20260424T225716
CREATED:20230324T185542Z
LAST-MODIFIED:20230324T185823Z
UID:10000026-1681293600-1681299000@www.shepherdofthevalley.com
SUMMARY:Coffee & Conversations: Packard Electric
DESCRIPTION:Join us as we explore the rich history of Trumbull County! Presented by the Trumbull County Historical Society\, this monthly series will be hosted at Shepherd of the Valley in Howland on the second Wednesday of the month at 10am. The topic for our first event in April will be Packard Electric and held on Wednesday April 12th. This series is planned to continue through July at Shepherd’s Howland location: 4100 North River Rd. NE\, Warren\, OH 44484\nWe welcome you to bring your photos\, bring your memorabilia and bring your stories! This will be an interactive event for you to share your own history of Packard Electric! \nTo RSVP\, call Rachel at 330-856-9232 ext. 2618
URL:https://www.shepherdofthevalley.com/event/coffeeandconversations/
LOCATION:Shepherd of the Valley-Howland\, 4100 North River Rd.\, Warren\, OH\, 44484\, United States
ATTACH;FMTTYPE=image/png:https://www.shepherdofthevalley.com/wp-content/uploads/2023/03/Howland_trumbull_historical_society_2023_social.png
ORGANIZER;CN="Rachel Ellis":MAILTO:rellis@shepherdofthevalley.com
END:VEVENT
BEGIN:VEVENT
DTSTART;TZID=America/New_York:20230322T090000
DTEND;TZID=America/New_York:20230322T120000
DTSTAMP:20260424T225716
CREATED:20230306T114025Z
LAST-MODIFIED:20230306T114025Z
UID:10000022-1679475600-1679486400@www.shepherdofthevalley.com
SUMMARY:Open Interviews - Hiring All Positions
DESCRIPTION:Work for one of the leading senior health care providers in the valley! Nursing\, Aides\, Housekeeping\, Environmental Services\, Dietary and home health – we are growing our teams! Great benefits package\, student loan programs\, annual reviews\, growth opportunities AND all employees are eligible for Shepherd’s free STNA program! \nDate: Wednesday\, March 22nd \nTime: 9 am-12 pm \nLocation: Shepherd of the Valley\, 4100 North River Rd. Warren\, OH 44484 \nQuestions: Contact Ashley Estes at 330-530-4038 ext. 2043 or aestes@shepherdofthevalley.com \nReady to apply now? Apply at www.shepherdofthevalley.com/careers. \n  \n 
URL:https://www.shepherdofthevalley.com/event/open-interviews-hiring-all-positions/
LOCATION:Shepherd of the Valley-Howland\, 4100 North River Rd.\, Warren\, OH\, 44484\, United States
ATTACH;FMTTYPE=image/png:https://www.shepherdofthevalley.com/wp-content/uploads/2023/03/hr_recruitment_open_interviews_howland_3.34.png
END:VEVENT
END:VCALENDAR