BEGIN:VCALENDAR
VERSION:2.0
PRODID:-//Shepherd of the Valley - ECPv6.15.20//NONSGML v1.0//EN
CALSCALE:GREGORIAN
METHOD:PUBLISH
X-WR-CALNAME:Shepherd of the Valley
X-ORIGINAL-URL:https://www.shepherdofthevalley.com
X-WR-CALDESC:Events for Shepherd of the Valley
REFRESH-INTERVAL;VALUE=DURATION:PT1H
X-Robots-Tag:noindex
X-PUBLISHED-TTL:PT1H
BEGIN:VTIMEZONE
TZID:America/New_York
BEGIN:DAYLIGHT
TZOFFSETFROM:-0500
TZOFFSETTO:-0400
TZNAME:EDT
DTSTART:20250309T070000
END:DAYLIGHT
BEGIN:STANDARD
TZOFFSETFROM:-0400
TZOFFSETTO:-0500
TZNAME:EST
DTSTART:20251102T060000
END:STANDARD
BEGIN:DAYLIGHT
TZOFFSETFROM:-0500
TZOFFSETTO:-0400
TZNAME:EDT
DTSTART:20260308T070000
END:DAYLIGHT
BEGIN:STANDARD
TZOFFSETFROM:-0400
TZOFFSETTO:-0500
TZNAME:EST
DTSTART:20261101T060000
END:STANDARD
BEGIN:DAYLIGHT
TZOFFSETFROM:-0500
TZOFFSETTO:-0400
TZNAME:EDT
DTSTART:20270314T070000
END:DAYLIGHT
BEGIN:STANDARD
TZOFFSETFROM:-0400
TZOFFSETTO:-0500
TZNAME:EST
DTSTART:20271107T060000
END:STANDARD
END:VTIMEZONE
BEGIN:VEVENT
DTSTART;VALUE=DATE:20260806
DTEND;VALUE=DATE:20260807
DTSTAMP:20260424T161515
CREATED:20260326T142512Z
LAST-MODIFIED:20260326T144213Z
UID:10000271-1785974400-1786060799@www.shepherdofthevalley.com
SUMMARY:2026 Shepherd of the Valley Golf Outing
DESCRIPTION:It’s almost that time of year again! On Thursday\, August 6\, we will hold the 2026 Shepherd of the Valley and Shepherd’s Foundation Golf Outing! Join us at Kennsington Golf Club this year for a fantastic day of golf\, good times\, and support for Shepherd of the Valley\, Shepherd’s Foundation\, and the greater Mahoning Valley! \nGolf registration\, hole sponsorships\, and more will be available soon. \nKennsington Golf Club\n4171 Westford Place\nCanfield\, OH 44406 \nFor questions\, please contact Shepherd’s Foundation at 330-530-4038.
URL:https://www.shepherdofthevalley.com/event/2026-shepherd-of-the-valley-golf-outing/
LOCATION:Kennsington Golf Club\, 4171 Westford Place\, Canfield\, OH\, 44406\, United States
ATTACH;FMTTYPE=image/webp:https://www.shepherdofthevalley.com/wp-content/uploads/2026/03/Updated-Golf-Outing-Cover-Image-2026.webp
END:VEVENT
END:VCALENDAR