BEGIN:VCALENDAR
VERSION:2.0
PRODID:-//Shepherd of the Valley - ECPv6.15.20//NONSGML v1.0//EN
CALSCALE:GREGORIAN
METHOD:PUBLISH
X-ORIGINAL-URL:https://www.shepherdofthevalley.com
X-WR-CALDESC:Events for Shepherd of the Valley
REFRESH-INTERVAL;VALUE=DURATION:PT1H
X-Robots-Tag:noindex
X-PUBLISHED-TTL:PT1H
BEGIN:VTIMEZONE
TZID:America/New_York
BEGIN:DAYLIGHT
TZOFFSETFROM:-0500
TZOFFSETTO:-0400
TZNAME:EDT
DTSTART:20220313T070000
END:DAYLIGHT
BEGIN:STANDARD
TZOFFSETFROM:-0400
TZOFFSETTO:-0500
TZNAME:EST
DTSTART:20221106T060000
END:STANDARD
BEGIN:DAYLIGHT
TZOFFSETFROM:-0500
TZOFFSETTO:-0400
TZNAME:EDT
DTSTART:20230312T070000
END:DAYLIGHT
BEGIN:STANDARD
TZOFFSETFROM:-0400
TZOFFSETTO:-0500
TZNAME:EST
DTSTART:20231105T060000
END:STANDARD
BEGIN:DAYLIGHT
TZOFFSETFROM:-0500
TZOFFSETTO:-0400
TZNAME:EDT
DTSTART:20240310T070000
END:DAYLIGHT
BEGIN:STANDARD
TZOFFSETFROM:-0400
TZOFFSETTO:-0500
TZNAME:EST
DTSTART:20241103T060000
END:STANDARD
END:VTIMEZONE
BEGIN:VEVENT
DTSTART;TZID=America/New_York:20231007T100000
DTEND;TZID=America/New_York:20231007T140000
DTSTAMP:20260425T072104
CREATED:20230825T134112Z
LAST-MODIFIED:20230825T134335Z
UID:10000054-1696672800-1696687200@www.shepherdofthevalley.com
SUMMARY:Bags\, Bubbly & Bingo
DESCRIPTION:Join us for “Bags\, Bubbly & Bingo\,” presented by Gordon Food Service to show your support for the Shepherd’s Foundation. Enjoy designer purse bingo & champagne brunch! You and your fellow bingo enthusiasts will enjoy a catered brunch while sipping on bubbly as you have a chance to win a new designer purse\, wristlet\, or additional prizes. \nDoors will open at 10 a.m.\, with brunch at 10:30 and the first round of Bingo at 11:15. \nAdmission is $40 and includes your meal\, champagne and mixers\, bingo cards and dauber. Outside beverages are permitted. \nAdditional Bingo cards are available for purchase. \nRegister online on Eventbrite. \nSpace is limited; tables seat 8. \nSponsorships & Donations  \nFor sponsorship opportunities\, please contact our Director of Donor Engagement\, Tony Perrone at 330.530.4038 x2028. \nTo donate a handbag\, wristlet or raffle item\, please contact our Administrative Assistant\, Jenn Schatzel at 330.530.4038 x2050.
URL:https://www.shepherdofthevalley.com/event/bags-bubbly-bingo/
LOCATION:Saint Michael Family Life Center\, 340 North Broad Street\, Canfield\, 44406\, United States
ATTACH;FMTTYPE=application/pdf:https://www.shepherdofthevalley.com/wp-content/uploads/2023/08/BAGS-BUBBLY-BINGO_10.7.23_Fixed_SOCIAL-EVENTS.pdf
END:VEVENT
END:VCALENDAR