BEGIN:VCALENDAR
VERSION:2.0
PRODID:-//Shepherd of the Valley - ECPv6.15.20//NONSGML v1.0//EN
CALSCALE:GREGORIAN
METHOD:PUBLISH
X-ORIGINAL-URL:https://www.shepherdofthevalley.com
X-WR-CALDESC:Events for Shepherd of the Valley
REFRESH-INTERVAL;VALUE=DURATION:PT1H
X-Robots-Tag:noindex
X-PUBLISHED-TTL:PT1H
BEGIN:VTIMEZONE
TZID:America/New_York
BEGIN:DAYLIGHT
TZOFFSETFROM:-0500
TZOFFSETTO:-0400
TZNAME:EDT
DTSTART:20220313T070000
END:DAYLIGHT
BEGIN:STANDARD
TZOFFSETFROM:-0400
TZOFFSETTO:-0500
TZNAME:EST
DTSTART:20221106T060000
END:STANDARD
BEGIN:DAYLIGHT
TZOFFSETFROM:-0500
TZOFFSETTO:-0400
TZNAME:EDT
DTSTART:20230312T070000
END:DAYLIGHT
BEGIN:STANDARD
TZOFFSETFROM:-0400
TZOFFSETTO:-0500
TZNAME:EST
DTSTART:20231105T060000
END:STANDARD
BEGIN:DAYLIGHT
TZOFFSETFROM:-0500
TZOFFSETTO:-0400
TZNAME:EDT
DTSTART:20240310T070000
END:DAYLIGHT
BEGIN:STANDARD
TZOFFSETFROM:-0400
TZOFFSETTO:-0500
TZNAME:EST
DTSTART:20241103T060000
END:STANDARD
BEGIN:DAYLIGHT
TZOFFSETFROM:-0500
TZOFFSETTO:-0400
TZNAME:EDT
DTSTART:20250309T070000
END:DAYLIGHT
BEGIN:STANDARD
TZOFFSETFROM:-0400
TZOFFSETTO:-0500
TZNAME:EST
DTSTART:20251102T060000
END:STANDARD
END:VTIMEZONE
BEGIN:VEVENT
DTSTART;TZID=America/New_York:20240216T140000
DTEND;TZID=America/New_York:20240216T160000
DTSTAMP:20260424T210214
CREATED:20240202T141608Z
LAST-MODIFIED:20240202T141608Z
UID:10000115-1708092000-1708099200@www.shepherdofthevalley.com
SUMMARY:Valentine's Affirmation of Love
DESCRIPTION:Enjoy a Valentine’s special with the ones you love and join us for live music from Pastor Christine Orr\, ballroom dancing\, prizes\, refreshments\, and more! All resident and staff couples are welcome to join! \nPlease RSVP by January 31 to Elder Clay\, Pastor Chris\, or the receptionist at any Shepherd community.
URL:https://www.shepherdofthevalley.com/event/valentines-affirmation-of-love/
LOCATION:Shepherd of the Valley in Poland\, 301 W. Western Reserve Rd.\, Poland\, OH\, 44514\, United States
ATTACH;FMTTYPE=image/png:https://www.shepherdofthevalley.com/wp-content/uploads/2024/02/Valentines-Day-Event.png
END:VEVENT
BEGIN:VEVENT
DTSTART;TZID=America/New_York:20230916T110000
DTEND;TZID=America/New_York:20230916T133000
DTSTAMP:20260424T210214
CREATED:20230721T191901Z
LAST-MODIFIED:20230721T191901Z
UID:10000050-1694862000-1694871000@www.shepherdofthevalley.com
SUMMARY:Car Show and Cruise
DESCRIPTION:Mark your calendars! Shepherd of the Valley’s Car Show and Cruise is back! Saturday September 16th\, we will begin with our car show at 11am in Poland (301 W. Western Reserve Rd.)\, followed by a cruise to Boardman (7148 West Blvd.) at 1pm for ice cream! All ages welcome and NO entry fee!\n\n\nJoin us for this free event! Bring your car or come to check out the show! Free hot dogs\, popcorn and prizes!\n\n\nFor questions\, call 330-726-7110.
URL:https://www.shepherdofthevalley.com/event/car-show-and-cruise/
LOCATION:Shepherd of the Valley in Poland\, 301 W. Western Reserve Rd.\, Poland\, OH\, 44514\, United States
ATTACH;FMTTYPE=image/png:https://www.shepherdofthevalley.com/wp-content/uploads/2023/07/car_cruise_show_social_9.16.23.png
ORGANIZER;CN="Shepherd of the Valley in Poland":MAILTO:marketing@shepherdofthevalley.com
END:VEVENT
BEGIN:VEVENT
DTSTART;TZID=America/New_York:20230817T160000
DTEND;TZID=America/New_York:20230817T190000
DTSTAMP:20260424T210214
CREATED:20230711T195027Z
LAST-MODIFIED:20230711T195027Z
UID:10000049-1692288000-1692298800@www.shepherdofthevalley.com
SUMMARY:Summer Open House in Poland
DESCRIPTION:Enjoy live entertainment\, popcorn\, lemonade and of course – tours of our beautiful community at our Summer Open House in Poland! Model condo unit available to tour\, along with our Assisted Living Suites and Skilled Nursing and Rehabilitation services. Stop by and see why Shepherd of the Valley is the best place to spend your retirement! All ages welcome! Free event. Reservations not required\, but if you RSVP by August 14th\, you will take home a free apple pie! Call Kristin to learn more at 330-726-7110 ext. 2318
URL:https://www.shepherdofthevalley.com/event/summer-open-house-in-poland/
LOCATION:Shepherd of the Valley in Poland\, 301 W. Western Reserve Rd.\, Poland\, OH\, 44514\, United States
ATTACH;FMTTYPE=image/png:https://www.shepherdofthevalley.com/wp-content/uploads/2023/07/poland_summer_open_house_8.17.23_social.png
ORGANIZER;CN="Shepherd of the Valley in Poland":MAILTO:marketing@shepherdofthevalley.com
END:VEVENT
END:VCALENDAR